BEGIN:VCALENDAR
VERSION:2.0
PRODID:-//Sierra Sage Region - ECPv6.15.20//NONSGML v1.0//EN
CALSCALE:GREGORIAN
METHOD:PUBLISH
X-ORIGINAL-URL:https://sierrasagena.org
X-WR-CALDESC:Events for Sierra Sage Region
REFRESH-INTERVAL;VALUE=DURATION:PT1H
X-Robots-Tag:noindex
X-PUBLISHED-TTL:PT1H
BEGIN:VTIMEZONE
TZID:America/Los_Angeles
BEGIN:DAYLIGHT
TZOFFSETFROM:-0800
TZOFFSETTO:-0700
TZNAME:PDT
DTSTART:20250309T100000
END:DAYLIGHT
BEGIN:STANDARD
TZOFFSETFROM:-0700
TZOFFSETTO:-0800
TZNAME:PST
DTSTART:20251102T090000
END:STANDARD
BEGIN:DAYLIGHT
TZOFFSETFROM:-0800
TZOFFSETTO:-0700
TZNAME:PDT
DTSTART:20260308T100000
END:DAYLIGHT
BEGIN:STANDARD
TZOFFSETFROM:-0700
TZOFFSETTO:-0800
TZNAME:PST
DTSTART:20261101T090000
END:STANDARD
BEGIN:DAYLIGHT
TZOFFSETFROM:-0800
TZOFFSETTO:-0700
TZNAME:PDT
DTSTART:20270314T100000
END:DAYLIGHT
BEGIN:STANDARD
TZOFFSETFROM:-0700
TZOFFSETTO:-0800
TZNAME:PST
DTSTART:20271107T090000
END:STANDARD
END:VTIMEZONE
BEGIN:VEVENT
DTSTART;TZID=America/Los_Angeles:20260214T160000
DTEND;TZID=America/Los_Angeles:20260214T210000
DTSTAMP:20260419T055244
CREATED:20260114T015053Z
LAST-MODIFIED:20260114T015053Z
UID:10000880-1771084800-1771102800@sierrasagena.org
SUMMARY:Sierra Sage Capital Area Activities presents Love & Recovery
DESCRIPTION:Speaker Meeting\nRaffle\nPasta Bar
URL:https://sierrasagena.org/event/sierra-sage-capital-area-activities-presents-love-recovery/
CATEGORIES:Capital Area
ATTACH;FMTTYPE=image/webp:https://sierrasagena.org/wp-content/uploads/2026/01/IMG_2738.webp
END:VEVENT
END:VCALENDAR