BEGIN:VCALENDAR
VERSION:2.0
PRODID:-//Sierra Sage Region - ECPv6.15.20//NONSGML v1.0//EN
CALSCALE:GREGORIAN
METHOD:PUBLISH
X-ORIGINAL-URL:https://sierrasagena.org
X-WR-CALDESC:Events for Sierra Sage Region
REFRESH-INTERVAL;VALUE=DURATION:PT1H
X-Robots-Tag:noindex
X-PUBLISHED-TTL:PT1H
BEGIN:VTIMEZONE
TZID:America/Los_Angeles
BEGIN:DAYLIGHT
TZOFFSETFROM:-0800
TZOFFSETTO:-0700
TZNAME:PDT
DTSTART:20240310T100000
END:DAYLIGHT
BEGIN:STANDARD
TZOFFSETFROM:-0700
TZOFFSETTO:-0800
TZNAME:PST
DTSTART:20241103T090000
END:STANDARD
BEGIN:DAYLIGHT
TZOFFSETFROM:-0800
TZOFFSETTO:-0700
TZNAME:PDT
DTSTART:20250309T100000
END:DAYLIGHT
BEGIN:STANDARD
TZOFFSETFROM:-0700
TZOFFSETTO:-0800
TZNAME:PST
DTSTART:20251102T090000
END:STANDARD
BEGIN:DAYLIGHT
TZOFFSETFROM:-0800
TZOFFSETTO:-0700
TZNAME:PDT
DTSTART:20260308T100000
END:DAYLIGHT
BEGIN:STANDARD
TZOFFSETFROM:-0700
TZOFFSETTO:-0800
TZNAME:PST
DTSTART:20261101T090000
END:STANDARD
END:VTIMEZONE
BEGIN:VEVENT
DTSTART;TZID=America/Los_Angeles:20250612T140000
DTEND;TZID=America/Los_Angeles:20250615T110000
DTSTAMP:20260421T013655
CREATED:20250414T153503Z
LAST-MODIFIED:20250414T153503Z
UID:10000493-1749736800-1749985200@sierrasagena.org
SUMMARY:Unity Sisters Retreat
DESCRIPTION:Who would have thought that a simple conversation between three women at a tamale-making event would take on a life of its own? We attended a women’s retreat in Mendocino\, CA a few months prior and thought “maybe we could host our own campout?” It snowballed from there. \nWe had meetings\, wrote guidelines\, gathered volunteers for positions\, and organized many fundraisers. One of our favorites was the New Year’s Eve Masquerade Ball. \nWe anticipated our first retreat would draw about 25 women. With a tremendous amount of support from the fellowship\, we were able to host our first camp out on June 2\, 2017\, at Grover’s Hot Springs in Markleeville\, CA. 69 women attended! \nWe have continued to host this retreat in June every year since. It grew so much after the first couple of years that we needed a new venue. We moved to Camp Concord in South Lake Tahoe\, CA– which is basically glamping at its best! Catered meals and memory foam mattresses mean all you have to bring is a sleeping bag/pillow\, snacks\, and whatever other overnight things you may need. We handle the rest! \nAre you ready to join us? We can’t wait to see you!
URL:https://sierrasagena.org/event/unity-sisters-retreat/
LOCATION:Camp Concord\, 100 Mt. Tallac Way\, South Lake Tahoe\, CA\, United States
CATEGORIES:Capital Area,Sierra Sage Region Events
ATTACH;FMTTYPE=image/webp:https://sierrasagena.org/wp-content/uploads/2025/04/Unity-Sisters-2025-logo.png
END:VEVENT
BEGIN:VEVENT
DTSTART;TZID=America/Los_Angeles:20250614T180000
DTEND;TZID=America/Los_Angeles:20250614T190000
DTSTAMP:20260421T013655
CREATED:20250514T231319Z
LAST-MODIFIED:20250514T231319Z
UID:10000565-1749924000-1749927600@sierrasagena.org
SUMMARY:Sierra Speaker Jam
DESCRIPTION:Hey! It’s our 2nd speaker jam l\, last one was a hit so come on and check it out. \nWe have two fire out of town speakers who will rock the house with the message. \nFood and drinks are free.
URL:https://sierrasagena.org/event/sierra-speaker-jam/
CATEGORIES:Sierra Sage Region Events
END:VEVENT
END:VCALENDAR