BEGIN:VCALENDAR
VERSION:2.0
PRODID:-//Sierra Sage Region - ECPv6.15.20//NONSGML v1.0//EN
CALSCALE:GREGORIAN
METHOD:PUBLISH
X-WR-CALNAME:Sierra Sage Region
X-ORIGINAL-URL:https://sierrasagena.org
X-WR-CALDESC:Events for Sierra Sage Region
REFRESH-INTERVAL;VALUE=DURATION:PT1H
X-Robots-Tag:noindex
X-PUBLISHED-TTL:PT1H
BEGIN:VTIMEZONE
TZID:America/Los_Angeles
BEGIN:DAYLIGHT
TZOFFSETFROM:-0800
TZOFFSETTO:-0700
TZNAME:PDT
DTSTART:20240310T100000
END:DAYLIGHT
BEGIN:STANDARD
TZOFFSETFROM:-0700
TZOFFSETTO:-0800
TZNAME:PST
DTSTART:20241103T090000
END:STANDARD
BEGIN:DAYLIGHT
TZOFFSETFROM:-0800
TZOFFSETTO:-0700
TZNAME:PDT
DTSTART:20250309T100000
END:DAYLIGHT
BEGIN:STANDARD
TZOFFSETFROM:-0700
TZOFFSETTO:-0800
TZNAME:PST
DTSTART:20251102T090000
END:STANDARD
BEGIN:DAYLIGHT
TZOFFSETFROM:-0800
TZOFFSETTO:-0700
TZNAME:PDT
DTSTART:20260308T100000
END:DAYLIGHT
BEGIN:STANDARD
TZOFFSETFROM:-0700
TZOFFSETTO:-0800
TZNAME:PST
DTSTART:20261101T090000
END:STANDARD
END:VTIMEZONE
BEGIN:VEVENT
DTSTART;TZID=America/Los_Angeles:20250906T100000
DTEND;TZID=America/Los_Angeles:20250906T160000
DTSTAMP:20260419T142626
CREATED:20250701T175934Z
LAST-MODIFIED:20250701T175934Z
UID:10000578-1757152800-1757174400@sierrasagena.org
SUMMARY:SSRCNA SOFTBALL AND SPEAKER MTG
DESCRIPTION:395 vs 50 softball Tournament\, show up at 10 to pick teams\, must sign waiver
URL:https://sierrasagena.org/event/ssrcna-softball-and-speaker-mtg/
LOCATION:Centential Park Complex\, 5400 Heritage Way\, Carson City\, NV\, United States
CATEGORIES:Sierra Sage Region Events
ATTACH;FMTTYPE=image/jpeg:https://sierrasagena.org/wp-content/uploads/2025/07/received_1480832133278496.jpeg
END:VEVENT
END:VCALENDAR