BEGIN:VCALENDAR
VERSION:2.0
PRODID:-//Sierra Sage Region - ECPv6.15.20//NONSGML v1.0//EN
CALSCALE:GREGORIAN
METHOD:PUBLISH
X-WR-CALNAME:Sierra Sage Region
X-ORIGINAL-URL:https://sierrasagena.org
X-WR-CALDESC:Events for Sierra Sage Region
REFRESH-INTERVAL;VALUE=DURATION:PT1H
X-Robots-Tag:noindex
X-PUBLISHED-TTL:PT1H
BEGIN:VTIMEZONE
TZID:America/Los_Angeles
BEGIN:DAYLIGHT
TZOFFSETFROM:-0800
TZOFFSETTO:-0700
TZNAME:PDT
DTSTART:20240310T100000
END:DAYLIGHT
BEGIN:STANDARD
TZOFFSETFROM:-0700
TZOFFSETTO:-0800
TZNAME:PST
DTSTART:20241103T090000
END:STANDARD
BEGIN:DAYLIGHT
TZOFFSETFROM:-0800
TZOFFSETTO:-0700
TZNAME:PDT
DTSTART:20250309T100000
END:DAYLIGHT
BEGIN:STANDARD
TZOFFSETFROM:-0700
TZOFFSETTO:-0800
TZNAME:PST
DTSTART:20251102T090000
END:STANDARD
BEGIN:DAYLIGHT
TZOFFSETFROM:-0800
TZOFFSETTO:-0700
TZNAME:PDT
DTSTART:20260308T100000
END:DAYLIGHT
BEGIN:STANDARD
TZOFFSETFROM:-0700
TZOFFSETTO:-0800
TZNAME:PST
DTSTART:20261101T090000
END:STANDARD
END:VTIMEZONE
BEGIN:VEVENT
DTSTART;VALUE=DATE:20251114
DTEND;VALUE=DATE:20251117
DTSTAMP:20260419T052830
CREATED:20250313T174404Z
LAST-MODIFIED:20250313T174404Z
UID:10000474-1763078400-1763337599@sierrasagena.org
SUMMARY:SSRCNA - The Lie is Dead
DESCRIPTION:SSRNA presents our 29th annual convention The Lie Is Dead. Speaker Meetings\, DJ Dance\, Comedy Show\, Banquet\, Breakfast\, Workshops\, Merchandise. Sparks Nugget Casino and Resort
URL:https://sierrasagena.org/event/ssrcna-the-lie-is-dead/
LOCATION:Sparks Nugget Casino Resort\, 1100 Nugget Ave\, Sparks\, NV\, 89431\, United States
CATEGORIES:Sierra Sage Region Events
ATTACH;FMTTYPE=image/webp:https://sierrasagena.org/wp-content/uploads/2025/03/Copy-of-SSRCNA-XXIX.webp
END:VEVENT
BEGIN:VEVENT
DTSTART;TZID=America/Los_Angeles:20251108T140000
DTEND;TZID=America/Los_Angeles:20251108T170000
DTSTAMP:20260419T052830
CREATED:20250723T124405Z
LAST-MODIFIED:20250723T124405Z
UID:10000766-1762610400-1762621200@sierrasagena.org
SUMMARY:Sierra Sage Region Gratitude Dinner
DESCRIPTION:Come join us for a great night with food\, fellowship\, music\, raffles\, and speaker meeting; $8 suggested donation. \nPotluck Dinner (if you can) please bring the following items shown below based on the first letter of your last name:\nA-H please bring a vegetable dish (salad\, green bean casserole\, etc..)\nI-Q please bring a traditional side dish (mac and cheese\, scalloped potatoes\, etc.)\nR-Z please bring a desert dish (pie\, cake\, cookies\, etc.)
URL:https://sierrasagena.org/event/sierra-sage-region-gratitude-dinner/
LOCATION:Fuji Park\, 701 Old Clear Creek Road\, Carson City\, NV\, 89705\, United States
CATEGORIES:Sierra Sage Region Events
ATTACH;FMTTYPE=image/webp:https://sierrasagena.org/wp-content/uploads/2025/07/GratitudeDinner2025.webp
END:VEVENT
BEGIN:VEVENT
DTSTART;TZID=America/Los_Angeles:20251004T120000
DTEND;TZID=America/Los_Angeles:20251004T170000
DTSTAMP:20260419T052830
CREATED:20250805T151309Z
LAST-MODIFIED:20250903T011444Z
UID:10000767-1759579200-1759597200@sierrasagena.org
SUMMARY:SSRCNA Chili Cook-Off
DESCRIPTION:SSRCNA Chili Cook Off and Speaker Mtg. Chili Contest! 730 4th St Sparks NV $10 donation 12-5
URL:https://sierrasagena.org/event/ssrcna-chili-cook-off/
CATEGORIES:Sierra Sage Region Events
ATTACH;FMTTYPE=image/webp:https://sierrasagena.org/wp-content/uploads/2025/08/Chili-Cook-Off-Event-Flyer-1.webp
END:VEVENT
BEGIN:VEVENT
DTSTART;TZID=America/Los_Angeles:20250927T120000
DTEND;TZID=America/Los_Angeles:20250927T180000
DTSTAMP:20260419T052830
CREATED:20250509T135909Z
LAST-MODIFIED:20250509T135909Z
UID:10000564-1758974400-1758996000@sierrasagena.org
SUMMARY:8th Annual Northern Nevada SSRNA Speaker Jam
DESCRIPTION:Regional Speaker Jam\n9/27/25 – Noon -6 pm\n3010 Lakeshore Dr.\, Washoe Valley NV. 89704
URL:https://sierrasagena.org/event/8th-annual-northern-nevada-ssrna-speaker-jam-2/
LOCATION:So Valley Volunteer Fire Dept Washoe Valley\, Lakeshore Blvd.\, Washoe Valley\, Nevada
CATEGORIES:Sierra Sage Region Events
ATTACH;FMTTYPE=image/webp:https://sierrasagena.org/wp-content/uploads/2025/05/31414A8E-6F7C-464B-9170-28EBDC3930B3.webp
ORGANIZER;CN="Sheryl M":MAILTO:FreeDahOne@aol.com
END:VEVENT
BEGIN:VEVENT
DTSTART;TZID=America/Los_Angeles:20250906T100000
DTEND;TZID=America/Los_Angeles:20250906T160000
DTSTAMP:20260419T052830
CREATED:20250701T175934Z
LAST-MODIFIED:20250701T175934Z
UID:10000578-1757152800-1757174400@sierrasagena.org
SUMMARY:SSRCNA SOFTBALL AND SPEAKER MTG
DESCRIPTION:395 vs 50 softball Tournament\, show up at 10 to pick teams\, must sign waiver
URL:https://sierrasagena.org/event/ssrcna-softball-and-speaker-mtg/
LOCATION:Centential Park Complex\, 5400 Heritage Way\, Carson City\, NV\, United States
CATEGORIES:Sierra Sage Region Events
ATTACH;FMTTYPE=image/jpeg:https://sierrasagena.org/wp-content/uploads/2025/07/received_1480832133278496.jpeg
END:VEVENT
BEGIN:VEVENT
DTSTART;TZID=America/Los_Angeles:20250821T120000
DTEND;TZID=America/Los_Angeles:20250824T120000
DTSTAMP:20260419T052830
CREATED:20250519T173654Z
LAST-MODIFIED:20250519T173654Z
UID:10000568-1755777600-1756036800@sierrasagena.org
SUMMARY:Men's Retreat
DESCRIPTION:Jackson Meadows
URL:https://sierrasagena.org/event/mens-retreat/
LOCATION:Jackson Meadows Reservoir – Aspen Group Site\, Sierraville\, CA\, 96126\, United States
CATEGORIES:Sierra Sage Region Events
ATTACH;FMTTYPE=image/webp:https://sierrasagena.org/wp-content/uploads/2025/05/5dkRkCTBt8FqCxCL.webp
END:VEVENT
BEGIN:VEVENT
DTSTART;TZID=America/Los_Angeles:20250817T140000
DTEND;TZID=America/Los_Angeles:20250817T180000
DTSTAMP:20260419T052830
CREATED:20250715T211641Z
LAST-MODIFIED:20250806T023716Z
UID:10000760-1755439200-1755453600@sierrasagena.org
SUMMARY:Let's Taco-bout
DESCRIPTION:
URL:https://sierrasagena.org/event/5130/
LOCATION:JATC\, 1150 Greg St\, Reno\, NV\, 89431\, United States
CATEGORIES:Sierra Sage Region Events
ATTACH;FMTTYPE=image/webp:https://sierrasagena.org/wp-content/uploads/2025/07/Green-and-Terracotta-Minimalist-Taco-Tuesday-Portrait-Poster_20250710_155848_0000.webp
END:VEVENT
BEGIN:VEVENT
DTSTART;TZID=America/Los_Angeles:20250704T110000
DTEND;TZID=America/Los_Angeles:20250704T170000
DTSTAMP:20260419T052830
CREATED:20250516T195521Z
LAST-MODIFIED:20250516T200354Z
UID:10000567-1751626800-1751648400@sierrasagena.org
SUMMARY:4th of July Bobe'cue
DESCRIPTION:4th of July celebration. Games\, Food\, Speakers\, $10 suggested donation Whitaker Park 550 University Terrace Reno NV 11am-5pm
URL:https://sierrasagena.org/event/4th-of-july-bobecue/
LOCATION:Whitaker Park\, 550 University Terrace\, Reno\, NV\, 89503\, United States
CATEGORIES:Sierra Sage Region Events
ATTACH;FMTTYPE=image/webp:https://sierrasagena.org/wp-content/uploads/2025/05/Public-Relations-and-Hospitals-Institutions-Present__20250515_183158_0000.webp
END:VEVENT
BEGIN:VEVENT
DTSTART;TZID=America/Los_Angeles:20250614T180000
DTEND;TZID=America/Los_Angeles:20250614T190000
DTSTAMP:20260419T052830
CREATED:20250514T231319Z
LAST-MODIFIED:20250514T231319Z
UID:10000565-1749924000-1749927600@sierrasagena.org
SUMMARY:Sierra Speaker Jam
DESCRIPTION:Hey! It’s our 2nd speaker jam l\, last one was a hit so come on and check it out. \nWe have two fire out of town speakers who will rock the house with the message. \nFood and drinks are free.
URL:https://sierrasagena.org/event/sierra-speaker-jam/
CATEGORIES:Sierra Sage Region Events
END:VEVENT
BEGIN:VEVENT
DTSTART;TZID=America/Los_Angeles:20250612T140000
DTEND;TZID=America/Los_Angeles:20250615T110000
DTSTAMP:20260419T052830
CREATED:20250414T153503Z
LAST-MODIFIED:20250414T153503Z
UID:10000493-1749736800-1749985200@sierrasagena.org
SUMMARY:Unity Sisters Retreat
DESCRIPTION:Who would have thought that a simple conversation between three women at a tamale-making event would take on a life of its own? We attended a women’s retreat in Mendocino\, CA a few months prior and thought “maybe we could host our own campout?” It snowballed from there. \nWe had meetings\, wrote guidelines\, gathered volunteers for positions\, and organized many fundraisers. One of our favorites was the New Year’s Eve Masquerade Ball. \nWe anticipated our first retreat would draw about 25 women. With a tremendous amount of support from the fellowship\, we were able to host our first camp out on June 2\, 2017\, at Grover’s Hot Springs in Markleeville\, CA. 69 women attended! \nWe have continued to host this retreat in June every year since. It grew so much after the first couple of years that we needed a new venue. We moved to Camp Concord in South Lake Tahoe\, CA– which is basically glamping at its best! Catered meals and memory foam mattresses mean all you have to bring is a sleeping bag/pillow\, snacks\, and whatever other overnight things you may need. We handle the rest! \nAre you ready to join us? We can’t wait to see you!
URL:https://sierrasagena.org/event/unity-sisters-retreat/
LOCATION:Camp Concord\, 100 Mt. Tallac Way\, South Lake Tahoe\, CA\, United States
CATEGORIES:Capital Area,Sierra Sage Region Events
ATTACH;FMTTYPE=image/webp:https://sierrasagena.org/wp-content/uploads/2025/04/Unity-Sisters-2025-logo.png
END:VEVENT
BEGIN:VEVENT
DTSTART;TZID=America/Los_Angeles:20250607T100000
DTEND;TZID=America/Los_Angeles:20250607T160000
DTSTAMP:20260419T052830
CREATED:20250213T170747Z
LAST-MODIFIED:20250213T170747Z
UID:10000338-1749290400-1749312000@sierrasagena.org
SUMMARY:SSRCNA 395 VS 50 Softball Challenge
DESCRIPTION:SSRCNA Presents 395 vs 50 softball challenge and speaker mtg. June 7th 10-4 Riverside Park 1665 Riverside Dr Susanville CA
URL:https://sierrasagena.org/event/ssrcna-395-vs-50-softball-challenge/
LOCATION:Riverside Park\, 1665 Riverside Dr\, Susanville\, CA\, 96130\, United States
CATEGORIES:Sierra Sage Region Events
ATTACH;FMTTYPE=image/webp:https://sierrasagena.org/wp-content/uploads/2025/02/395-vs-50-Softball-Challenge-2025.pdf.png.webp
END:VEVENT
BEGIN:VEVENT
DTSTART;TZID=America/Los_Angeles:20250504T110000
DTEND;TZID=America/Los_Angeles:20250504T160000
DTSTAMP:20260419T052830
CREATED:20250406T132155Z
LAST-MODIFIED:20250418T205256Z
UID:10000488-1746356400-1746374400@sierrasagena.org
SUMMARY:Sierra Sisters Women’s Retreat May The Fourth Be With You
DESCRIPTION:Tie Dye and BBQ\, Speaker Meeting\, Merchandise for Sale\, Please bring a side dish. $10 for a shirt\, $10 for bbq. No addict turned away.
URL:https://sierrasagena.org/event/sierra-sisters-womens-retreat-may-the-fourth-be-with-you/
CATEGORIES:Sierra Sage Region Events
ATTACH;FMTTYPE=image/webp:https://sierrasagena.org/wp-content/uploads/2025/04/Sierra-Sisters_Family-Fued-4.18.25.webp
END:VEVENT
BEGIN:VEVENT
DTSTART;TZID=America/Los_Angeles:20250503T120000
DTEND;TZID=America/Los_Angeles:20250503T160000
DTSTAMP:20260419T052830
CREATED:20250213T165940Z
LAST-MODIFIED:20250213T165940Z
UID:10000336-1746273600-1746288000@sierrasagena.org
SUMMARY:SSRCNA Cinco De Mayo
DESCRIPTION:SSRCNA presents Cinco De Mayo Taco feed\, salsa competition\, Speaker meeting\, 200 N Division St Carson City NV
URL:https://sierrasagena.org/event/ssrcna-cinco-de-mayo/
CATEGORIES:Sierra Sage Region Events
ATTACH;FMTTYPE=image/webp:https://sierrasagena.org/wp-content/uploads/2025/02/Cinco-de-Mayo-Flyer-2025.pdf.webp
END:VEVENT
BEGIN:VEVENT
DTSTART;TZID=America/Los_Angeles:20250419T120000
DTEND;TZID=America/Los_Angeles:20250419T160000
DTSTAMP:20260419T052830
CREATED:20250408T172926Z
LAST-MODIFIED:20250408T172926Z
UID:10000490-1745064000-1745078400@sierrasagena.org
SUMMARY:Spring Fling Bingo
DESCRIPTION:SSRNA Unity Sisters is hosting Spring Fling Bingo on April 19th\, 2025.\nThere will be food\, fellowshipping\, unity\, recovery\, experience strength & hope shared by Marcy B. from Capital Area who celebrates 10 years in Recovery on March 10th\, 2025\, 50/50 Raffle\, & Bingo Prizes.\nPlease come experience one of the many joys that recovery has to offer!\nEveryone is welcome who is seeking recovery!\nFamilies are also welcome.\nThis is a Sierra Sage Region of Narcotics Anonymous sponsored event & a fundraiser for the annual Unity Sisters Retreat held @ Lake Tahoe in June every year.\nYOUR PARTICIPATION IS IMPORTANT FOR YOUR & OUR RECOVERY 🙂
URL:https://sierrasagena.org/event/spring-fling-bingo/
LOCATION:Shine Church\, 3690 US Hwy 395 S\, Carson City\, NV\, 89705\, United States
CATEGORIES:Capital Area,Sierra Sage Region Events
ATTACH;FMTTYPE=image/webp:https://sierrasagena.org/wp-content/uploads/2025/04/Spring-Fling-US-2025.webp
ORGANIZER;CN="Kelly N":MAILTO:iamkellyhanson68@gmail.com
END:VEVENT
BEGIN:VEVENT
DTSTART;VALUE=DATE:20250330
DTEND;VALUE=DATE:20250331
DTSTAMP:20260419T052830
CREATED:20250205T042532Z
LAST-MODIFIED:20250205T042532Z
UID:10000242-1743292800-1743379199@sierrasagena.org
SUMMARY:WSLD Committee Presents - Family Feud
DESCRIPTION:
URL:https://sierrasagena.org/event/wsld-committee-presents-family-feud/
LOCATION:JATC\, 1150 Greg St\, Reno\, NV\, 89431\, United States
CATEGORIES:Sierra Sage Region Events
ATTACH;FMTTYPE=image/webp:https://sierrasagena.org/wp-content/uploads/2025/02/WSLD-FamilyFeud.webp
END:VEVENT
BEGIN:VEVENT
DTSTART;TZID=America/Los_Angeles:20250315T113000
DTEND;TZID=America/Los_Angeles:20250315T170000
DTSTAMP:20260419T052830
CREATED:20250218T223424Z
LAST-MODIFIED:20250218T223424Z
UID:10000344-1742038200-1742058000@sierrasagena.org
SUMMARY:SSRCNA Cribbage and Cabbage
DESCRIPTION:SSRCNA-Cribbage and Cabbage
URL:https://sierrasagena.org/event/ssrcna-cribbage-and-cabbage-2/
LOCATION:American Legion Hall Post 30\, 730 4th St\, Sparks\, NV\, 89431\, United States
CATEGORIES:Sierra Sage Region Events
END:VEVENT
END:VCALENDAR