BEGIN:VCALENDAR
VERSION:2.0
PRODID:-//Sierra Sage Region - ECPv6.15.20//NONSGML v1.0//EN
CALSCALE:GREGORIAN
METHOD:PUBLISH
X-ORIGINAL-URL:https://sierrasagena.org
X-WR-CALDESC:Events for Sierra Sage Region
REFRESH-INTERVAL;VALUE=DURATION:PT1H
X-Robots-Tag:noindex
X-PUBLISHED-TTL:PT1H
BEGIN:VTIMEZONE
TZID:America/Los_Angeles
BEGIN:DAYLIGHT
TZOFFSETFROM:-0800
TZOFFSETTO:-0700
TZNAME:PDT
DTSTART:20280312T100000
END:DAYLIGHT
BEGIN:STANDARD
TZOFFSETFROM:-0700
TZOFFSETTO:-0800
TZNAME:PST
DTSTART:20281105T090000
END:STANDARD
BEGIN:DAYLIGHT
TZOFFSETFROM:-0800
TZOFFSETTO:-0700
TZNAME:PDT
DTSTART:20290311T100000
END:DAYLIGHT
BEGIN:STANDARD
TZOFFSETFROM:-0700
TZOFFSETTO:-0800
TZNAME:PST
DTSTART:20291104T090000
END:STANDARD
BEGIN:DAYLIGHT
TZOFFSETFROM:-0800
TZOFFSETTO:-0700
TZNAME:PDT
DTSTART:20300310T100000
END:DAYLIGHT
BEGIN:STANDARD
TZOFFSETFROM:-0700
TZOFFSETTO:-0800
TZNAME:PST
DTSTART:20301103T090000
END:STANDARD
END:VTIMEZONE
BEGIN:VEVENT
DTSTART;TZID=America/Los_Angeles:20290109T180000
DTEND;TZID=America/Los_Angeles:20290109T190000
DTSTAMP:20260419T232705
CREATED:20250102T202419Z
LAST-MODIFIED:20250102T202419Z
UID:10000169-1862676000-1862679600@sierrasagena.org
SUMMARY:BLAW Public Relations Meeting
DESCRIPTION:We meet the second Tuesday of every month.
URL:https://sierrasagena.org/event/blaw-public-relations-meeting/2029-01-09/
LOCATION:NV
CATEGORIES:Biggest Little Area in the World Area
END:VEVENT
BEGIN:VEVENT
DTSTART;TZID=America/Los_Angeles:20290112T180000
DTEND;TZID=America/Los_Angeles:20290112T190000
DTSTAMP:20260419T232705
CREATED:20250708T122241Z
LAST-MODIFIED:20250711T155643Z
UID:10000682-1862935200-1862938800@sierrasagena.org
SUMMARY:CANA H&I Subcommittee meeting
DESCRIPTION:Capital Area of Narcotics Anonymous; Hospitals and Institutions\, monthly subcommittee meeting
URL:https://sierrasagena.org/event/cana-hi-subcommittee-meeting/2029-01-12/
LOCATION:Round Table Pizza\, 185 Damonte Ranch Pkwy\, Reno\, NV\, 89511\, United States
CATEGORIES:Capital Area
ORGANIZER;CN="Bailey G":MAILTO:mammasquatch@outlook.com
END:VEVENT
BEGIN:VEVENT
DTSTART;TZID=America/Los_Angeles:20290112T180000
DTEND;TZID=America/Los_Angeles:20290112T190000
DTSTAMP:20260419T232705
CREATED:20250708T122315Z
LAST-MODIFIED:20251008T000314Z
UID:10000742-1862935200-1862938800@sierrasagena.org
SUMMARY:CANA PR Subcommittee
DESCRIPTION:Capital Area of Narcotics Anonymous; monthly public relations subcommittee meeting
URL:https://sierrasagena.org/event/cana-pr-subcommittee/2029-01-12/
LOCATION:North Carson Round Table Pizza\, 3325 Retail Dr\, Carson City\, 89706\, United States
CATEGORIES:Capital Area,Sierra Sage Service Events/Meetings
ATTACH;FMTTYPE=image/webp:https://sierrasagena.org/wp-content/uploads/2025/07/Flyer-HI-and-PR-Subcommittee-Meeting-Tonight.png.webp
ORGANIZER;CN="Bailey G":MAILTO:mammasquatch@outlook.com
END:VEVENT
BEGIN:VEVENT
DTSTART;TZID=America/Los_Angeles:20290118T180000
DTEND;TZID=America/Los_Angeles:20290118T190000
DTSTAMP:20260419T232705
CREATED:20250708T122211Z
LAST-MODIFIED:20250708T122211Z
UID:10000622-1863453600-1863457200@sierrasagena.org
SUMMARY:CANA ASC Monthly Meeting
DESCRIPTION:Capital area of narcotics anonymous area service committee monthly meeting.
URL:https://sierrasagena.org/event/cana-asc-monthly-meeting/2029-01-18/
LOCATION:First United Methodist Church\, 200 N Division Street\, Carson City\, NV\, 89703\, United States
CATEGORIES:Capital Area
ORGANIZER;CN="Bailey G":MAILTO:mammasquatch@outlook.com
END:VEVENT
BEGIN:VEVENT
DTSTART;TZID=America/Los_Angeles:20290118T183000
DTEND;TZID=America/Los_Angeles:20290118T200000
DTSTAMP:20260419T232705
CREATED:20250102T202641Z
LAST-MODIFIED:20250102T202641Z
UID:10000229-1863455400-1863460800@sierrasagena.org
SUMMARY:BLAW Monthly ASC Meeting
DESCRIPTION:
URL:https://sierrasagena.org/event/blaw-monthly-asc-meeting/2029-01-18/
LOCATION:Sparks Christian Fellowship\, 510 Greenbrae Dr\, Sparks\, NV\, 89431\, United States
CATEGORIES:Biggest Little Area in the World Area
END:VEVENT
BEGIN:VEVENT
DTSTART;TZID=America/Los_Angeles:20290126T190000
DTEND;TZID=America/Los_Angeles:20290126T203000
DTSTAMP:20260419T232705
CREATED:20250419T161054Z
LAST-MODIFIED:20250419T172243Z
UID:10000550-1864148400-1864153800@sierrasagena.org
SUMMARY:SSANA Monthly ASC Meeting
DESCRIPTION:South Shore Area of Narcotics Anonymous Area Service Committee:\nLocated at the Presbyterian Church in South Lake Tahoe at 2733 Lake Tahoe Blvd\, SLT\, CA 96150 \nASC meeting follows the Friday night meeting that takes place from 6pm – 7pm.
URL:https://sierrasagena.org/event/ssana-asc/2029-01-26/
LOCATION:Lake Tahoe Community Presbyterian Church\, 2733 Lake Tahoe Blvd.\, South Lake Tahoe\, CA\, 96150\, United States
CATEGORIES:South Lake Tahoe Area
END:VEVENT
BEGIN:VEVENT
DTSTART;TZID=America/Los_Angeles:20290204T110000
DTEND;TZID=America/Los_Angeles:20290204T123000
DTSTAMP:20260419T232705
CREATED:20250213T165911Z
LAST-MODIFIED:20250213T165911Z
UID:10000323-1864897200-1864902600@sierrasagena.org
SUMMARY:SSRCNA Committee Meeting
DESCRIPTION:Sierra Sage Regional Convention of Narcotics Anonymous committee meeting. 4635 Longley Lane Reno NV 89502
URL:https://sierrasagena.org/event/ssrcna-committee-meeting/2029-02-04/
LOCATION:NV
CATEGORIES:Sierra Sage Service Events/Meetings
END:VEVENT
BEGIN:VEVENT
DTSTART;TZID=America/Los_Angeles:20290206T180000
DTEND;TZID=America/Los_Angeles:20290206T190000
DTSTAMP:20260419T232705
CREATED:20260115T131553Z
LAST-MODIFIED:20260115T131553Z
UID:10000919-1865095200-1865098800@sierrasagena.org
SUMMARY:BLAW Activities Meeting
DESCRIPTION:Meet the 1st Tuesday of every month at scf upstairs in room 204
URL:https://sierrasagena.org/event/blaw-activities-meeting/2029-02-06/
LOCATION:Sparks Christian Fellowship\, 510 Greenbrae Dr\, Sparks\, NV\, 89431\, United States
END:VEVENT
BEGIN:VEVENT
DTSTART;TZID=America/Los_Angeles:20290209T180000
DTEND;TZID=America/Los_Angeles:20290209T190000
DTSTAMP:20260419T232705
CREATED:20250708T122241Z
LAST-MODIFIED:20250711T155643Z
UID:10000683-1865354400-1865358000@sierrasagena.org
SUMMARY:CANA H&I Subcommittee meeting
DESCRIPTION:Capital Area of Narcotics Anonymous; Hospitals and Institutions\, monthly subcommittee meeting
URL:https://sierrasagena.org/event/cana-hi-subcommittee-meeting/2029-02-09/
LOCATION:Round Table Pizza\, 185 Damonte Ranch Pkwy\, Reno\, NV\, 89511\, United States
CATEGORIES:Capital Area
ORGANIZER;CN="Bailey G":MAILTO:mammasquatch@outlook.com
END:VEVENT
BEGIN:VEVENT
DTSTART;TZID=America/Los_Angeles:20290209T180000
DTEND;TZID=America/Los_Angeles:20290209T190000
DTSTAMP:20260419T232705
CREATED:20250708T122315Z
LAST-MODIFIED:20251008T000314Z
UID:10000743-1865354400-1865358000@sierrasagena.org
SUMMARY:CANA PR Subcommittee
DESCRIPTION:Capital Area of Narcotics Anonymous; monthly public relations subcommittee meeting
URL:https://sierrasagena.org/event/cana-pr-subcommittee/2029-02-09/
LOCATION:North Carson Round Table Pizza\, 3325 Retail Dr\, Carson City\, 89706\, United States
CATEGORIES:Capital Area,Sierra Sage Service Events/Meetings
ATTACH;FMTTYPE=image/webp:https://sierrasagena.org/wp-content/uploads/2025/07/Flyer-HI-and-PR-Subcommittee-Meeting-Tonight.png.webp
ORGANIZER;CN="Bailey G":MAILTO:mammasquatch@outlook.com
END:VEVENT
BEGIN:VEVENT
DTSTART;TZID=America/Los_Angeles:20290212T183000
DTEND;TZID=America/Los_Angeles:20290212T193000
DTSTAMP:20260419T232705
CREATED:20250102T201917Z
LAST-MODIFIED:20250908T125219Z
UID:10000110-1865615400-1865619000@sierrasagena.org
SUMMARY:BLAW Hospital and Institutions Monthly Meeting
DESCRIPTION:Please come and support H & I as we are always in need of volunteers.
URL:https://sierrasagena.org/event/blaw-hospital-and-institutions-monthly-meeting/2029-02-12/
LOCATION:Denny’s\, 205 Nugget Ave\, Sparks\, NV\, 89431\, United States
CATEGORIES:Biggest Little Area in the World Area
END:VEVENT
BEGIN:VEVENT
DTSTART;TZID=America/Los_Angeles:20290213T180000
DTEND;TZID=America/Los_Angeles:20290213T190000
DTSTAMP:20260419T232705
CREATED:20250102T202419Z
LAST-MODIFIED:20250102T202419Z
UID:10000170-1865700000-1865703600@sierrasagena.org
SUMMARY:BLAW Public Relations Meeting
DESCRIPTION:We meet the second Tuesday of every month.
URL:https://sierrasagena.org/event/blaw-public-relations-meeting/2029-02-13/
LOCATION:NV
CATEGORIES:Biggest Little Area in the World Area
END:VEVENT
BEGIN:VEVENT
DTSTART;TZID=America/Los_Angeles:20290215T180000
DTEND;TZID=America/Los_Angeles:20290215T190000
DTSTAMP:20260419T232705
CREATED:20250708T122211Z
LAST-MODIFIED:20250708T122211Z
UID:10000623-1865872800-1865876400@sierrasagena.org
SUMMARY:CANA ASC Monthly Meeting
DESCRIPTION:Capital area of narcotics anonymous area service committee monthly meeting.
URL:https://sierrasagena.org/event/cana-asc-monthly-meeting/2029-02-15/
LOCATION:First United Methodist Church\, 200 N Division Street\, Carson City\, NV\, 89703\, United States
CATEGORIES:Capital Area
ORGANIZER;CN="Bailey G":MAILTO:mammasquatch@outlook.com
END:VEVENT
BEGIN:VEVENT
DTSTART;TZID=America/Los_Angeles:20290215T183000
DTEND;TZID=America/Los_Angeles:20290215T200000
DTSTAMP:20260419T232705
CREATED:20250102T202641Z
LAST-MODIFIED:20250102T202641Z
UID:10000230-1865874600-1865880000@sierrasagena.org
SUMMARY:BLAW Monthly ASC Meeting
DESCRIPTION:
URL:https://sierrasagena.org/event/blaw-monthly-asc-meeting/2029-02-15/
LOCATION:Sparks Christian Fellowship\, 510 Greenbrae Dr\, Sparks\, NV\, 89431\, United States
CATEGORIES:Biggest Little Area in the World Area
END:VEVENT
BEGIN:VEVENT
DTSTART;TZID=America/Los_Angeles:20290223T190000
DTEND;TZID=America/Los_Angeles:20290223T203000
DTSTAMP:20260419T232705
CREATED:20250419T161054Z
LAST-MODIFIED:20250419T172243Z
UID:10000551-1866567600-1866573000@sierrasagena.org
SUMMARY:SSANA Monthly ASC Meeting
DESCRIPTION:South Shore Area of Narcotics Anonymous Area Service Committee:\nLocated at the Presbyterian Church in South Lake Tahoe at 2733 Lake Tahoe Blvd\, SLT\, CA 96150 \nASC meeting follows the Friday night meeting that takes place from 6pm – 7pm.
URL:https://sierrasagena.org/event/ssana-asc/2029-02-23/
LOCATION:Lake Tahoe Community Presbyterian Church\, 2733 Lake Tahoe Blvd.\, South Lake Tahoe\, CA\, 96150\, United States
CATEGORIES:South Lake Tahoe Area
END:VEVENT
BEGIN:VEVENT
DTSTART;TZID=America/Los_Angeles:20290304T110000
DTEND;TZID=America/Los_Angeles:20290304T123000
DTSTAMP:20260419T232705
CREATED:20250213T165911Z
LAST-MODIFIED:20250213T165911Z
UID:10000324-1867316400-1867321800@sierrasagena.org
SUMMARY:SSRCNA Committee Meeting
DESCRIPTION:Sierra Sage Regional Convention of Narcotics Anonymous committee meeting. 4635 Longley Lane Reno NV 89502
URL:https://sierrasagena.org/event/ssrcna-committee-meeting/2029-03-04/
LOCATION:NV
CATEGORIES:Sierra Sage Service Events/Meetings
END:VEVENT
BEGIN:VEVENT
DTSTART;TZID=America/Los_Angeles:20290305T200000
DTEND;TZID=America/Los_Angeles:20290305T210000
DTSTAMP:20260419T232705
CREATED:20250210T012402Z
LAST-MODIFIED:20250210T012402Z
UID:10000269-1867435200-1867438800@sierrasagena.org
SUMMARY:Sierra Sage Region of Narcotics Anonymous Online Meetings Subcommittee
DESCRIPTION:Bi-monthly business meeting of SSRNA OLM subcommittee.\nTakes place on the 1st Monday of every odd month.\nhttps://us02web.zoom.us/j/8762905567
URL:https://sierrasagena.org/event/sierra-sage-region-of-narcotics-anonymous-online-meetings-subcommittee/2029-03-05/
LOCATION:https://us02web.zoom.us/j/8762905567
CATEGORIES:Sierra Sage Service Events/Meetings
ATTACH;FMTTYPE=image/webp:https://sierrasagena.org/wp-content/uploads/2025/02/online-subcom-meeting-flyer.webp
ORGANIZER;CN="Judith B":MAILTO:judithannebarnes@gmail.com
END:VEVENT
BEGIN:VEVENT
DTSTART;TZID=America/Los_Angeles:20290306T180000
DTEND;TZID=America/Los_Angeles:20290306T190000
DTSTAMP:20260419T232705
CREATED:20260115T131553Z
LAST-MODIFIED:20260115T131553Z
UID:10000920-1867514400-1867518000@sierrasagena.org
SUMMARY:BLAW Activities Meeting
DESCRIPTION:Meet the 1st Tuesday of every month at scf upstairs in room 204
URL:https://sierrasagena.org/event/blaw-activities-meeting/2029-03-06/
LOCATION:Sparks Christian Fellowship\, 510 Greenbrae Dr\, Sparks\, NV\, 89431\, United States
END:VEVENT
BEGIN:VEVENT
DTSTART;TZID=America/Los_Angeles:20290309T180000
DTEND;TZID=America/Los_Angeles:20290309T190000
DTSTAMP:20260419T232705
CREATED:20250708T122241Z
LAST-MODIFIED:20250711T155643Z
UID:10000684-1867773600-1867777200@sierrasagena.org
SUMMARY:CANA H&I Subcommittee meeting
DESCRIPTION:Capital Area of Narcotics Anonymous; Hospitals and Institutions\, monthly subcommittee meeting
URL:https://sierrasagena.org/event/cana-hi-subcommittee-meeting/2029-03-09/
LOCATION:Round Table Pizza\, 185 Damonte Ranch Pkwy\, Reno\, NV\, 89511\, United States
CATEGORIES:Capital Area
ORGANIZER;CN="Bailey G":MAILTO:mammasquatch@outlook.com
END:VEVENT
BEGIN:VEVENT
DTSTART;TZID=America/Los_Angeles:20290309T180000
DTEND;TZID=America/Los_Angeles:20290309T190000
DTSTAMP:20260419T232705
CREATED:20250708T122315Z
LAST-MODIFIED:20251008T000314Z
UID:10000744-1867773600-1867777200@sierrasagena.org
SUMMARY:CANA PR Subcommittee
DESCRIPTION:Capital Area of Narcotics Anonymous; monthly public relations subcommittee meeting
URL:https://sierrasagena.org/event/cana-pr-subcommittee/2029-03-09/
LOCATION:North Carson Round Table Pizza\, 3325 Retail Dr\, Carson City\, 89706\, United States
CATEGORIES:Capital Area,Sierra Sage Service Events/Meetings
ATTACH;FMTTYPE=image/webp:https://sierrasagena.org/wp-content/uploads/2025/07/Flyer-HI-and-PR-Subcommittee-Meeting-Tonight.png.webp
ORGANIZER;CN="Bailey G":MAILTO:mammasquatch@outlook.com
END:VEVENT
BEGIN:VEVENT
DTSTART;TZID=America/Los_Angeles:20290312T183000
DTEND;TZID=America/Los_Angeles:20290312T193000
DTSTAMP:20260419T232705
CREATED:20250102T201917Z
LAST-MODIFIED:20250908T125219Z
UID:10000111-1868034600-1868038200@sierrasagena.org
SUMMARY:BLAW Hospital and Institutions Monthly Meeting
DESCRIPTION:Please come and support H & I as we are always in need of volunteers.
URL:https://sierrasagena.org/event/blaw-hospital-and-institutions-monthly-meeting/2029-03-12/
LOCATION:Denny’s\, 205 Nugget Ave\, Sparks\, NV\, 89431\, United States
CATEGORIES:Biggest Little Area in the World Area
END:VEVENT
BEGIN:VEVENT
DTSTART;TZID=America/Los_Angeles:20290313T180000
DTEND;TZID=America/Los_Angeles:20290313T190000
DTSTAMP:20260419T232705
CREATED:20250102T202419Z
LAST-MODIFIED:20250102T202419Z
UID:10000171-1868119200-1868122800@sierrasagena.org
SUMMARY:BLAW Public Relations Meeting
DESCRIPTION:We meet the second Tuesday of every month.
URL:https://sierrasagena.org/event/blaw-public-relations-meeting/2029-03-13/
LOCATION:NV
CATEGORIES:Biggest Little Area in the World Area
END:VEVENT
BEGIN:VEVENT
DTSTART;TZID=America/Los_Angeles:20290315T180000
DTEND;TZID=America/Los_Angeles:20290315T190000
DTSTAMP:20260419T232705
CREATED:20250708T122211Z
LAST-MODIFIED:20250708T122211Z
UID:10000624-1868292000-1868295600@sierrasagena.org
SUMMARY:CANA ASC Monthly Meeting
DESCRIPTION:Capital area of narcotics anonymous area service committee monthly meeting.
URL:https://sierrasagena.org/event/cana-asc-monthly-meeting/2029-03-15/
LOCATION:First United Methodist Church\, 200 N Division Street\, Carson City\, NV\, 89703\, United States
CATEGORIES:Capital Area
ORGANIZER;CN="Bailey G":MAILTO:mammasquatch@outlook.com
END:VEVENT
BEGIN:VEVENT
DTSTART;TZID=America/Los_Angeles:20290315T183000
DTEND;TZID=America/Los_Angeles:20290315T200000
DTSTAMP:20260419T232705
CREATED:20250102T202641Z
LAST-MODIFIED:20250102T202641Z
UID:10000231-1868293800-1868299200@sierrasagena.org
SUMMARY:BLAW Monthly ASC Meeting
DESCRIPTION:
URL:https://sierrasagena.org/event/blaw-monthly-asc-meeting/2029-03-15/
LOCATION:Sparks Christian Fellowship\, 510 Greenbrae Dr\, Sparks\, NV\, 89431\, United States
CATEGORIES:Biggest Little Area in the World Area
END:VEVENT
BEGIN:VEVENT
DTSTART;TZID=America/Los_Angeles:20290330T190000
DTEND;TZID=America/Los_Angeles:20290330T203000
DTSTAMP:20260419T232705
CREATED:20250419T161054Z
LAST-MODIFIED:20250419T172243Z
UID:10000552-1869591600-1869597000@sierrasagena.org
SUMMARY:SSANA Monthly ASC Meeting
DESCRIPTION:South Shore Area of Narcotics Anonymous Area Service Committee:\nLocated at the Presbyterian Church in South Lake Tahoe at 2733 Lake Tahoe Blvd\, SLT\, CA 96150 \nASC meeting follows the Friday night meeting that takes place from 6pm – 7pm.
URL:https://sierrasagena.org/event/ssana-asc/2029-03-30/
LOCATION:Lake Tahoe Community Presbyterian Church\, 2733 Lake Tahoe Blvd.\, South Lake Tahoe\, CA\, 96150\, United States
CATEGORIES:South Lake Tahoe Area
END:VEVENT
BEGIN:VEVENT
DTSTART;TZID=America/Los_Angeles:20290401T110000
DTEND;TZID=America/Los_Angeles:20290401T123000
DTSTAMP:20260419T232705
CREATED:20250213T165911Z
LAST-MODIFIED:20250213T165911Z
UID:10000325-1869735600-1869741000@sierrasagena.org
SUMMARY:SSRCNA Committee Meeting
DESCRIPTION:Sierra Sage Regional Convention of Narcotics Anonymous committee meeting. 4635 Longley Lane Reno NV 89502
URL:https://sierrasagena.org/event/ssrcna-committee-meeting/2029-04-01/
LOCATION:NV
CATEGORIES:Sierra Sage Service Events/Meetings
END:VEVENT
BEGIN:VEVENT
DTSTART;TZID=America/Los_Angeles:20290403T180000
DTEND;TZID=America/Los_Angeles:20290403T190000
DTSTAMP:20260419T232705
CREATED:20260115T131553Z
LAST-MODIFIED:20260115T131553Z
UID:10000921-1869933600-1869937200@sierrasagena.org
SUMMARY:BLAW Activities Meeting
DESCRIPTION:Meet the 1st Tuesday of every month at scf upstairs in room 204
URL:https://sierrasagena.org/event/blaw-activities-meeting/2029-04-03/
LOCATION:Sparks Christian Fellowship\, 510 Greenbrae Dr\, Sparks\, NV\, 89431\, United States
END:VEVENT
BEGIN:VEVENT
DTSTART;TZID=America/Los_Angeles:20290409T183000
DTEND;TZID=America/Los_Angeles:20290409T193000
DTSTAMP:20260419T232705
CREATED:20250102T201917Z
LAST-MODIFIED:20250908T125219Z
UID:10000112-1870453800-1870457400@sierrasagena.org
SUMMARY:BLAW Hospital and Institutions Monthly Meeting
DESCRIPTION:Please come and support H & I as we are always in need of volunteers.
URL:https://sierrasagena.org/event/blaw-hospital-and-institutions-monthly-meeting/2029-04-09/
LOCATION:Denny’s\, 205 Nugget Ave\, Sparks\, NV\, 89431\, United States
CATEGORIES:Biggest Little Area in the World Area
END:VEVENT
BEGIN:VEVENT
DTSTART;TZID=America/Los_Angeles:20290410T180000
DTEND;TZID=America/Los_Angeles:20290410T190000
DTSTAMP:20260419T232705
CREATED:20250102T202419Z
LAST-MODIFIED:20250102T202419Z
UID:10000172-1870538400-1870542000@sierrasagena.org
SUMMARY:BLAW Public Relations Meeting
DESCRIPTION:We meet the second Tuesday of every month.
URL:https://sierrasagena.org/event/blaw-public-relations-meeting/2029-04-10/
LOCATION:NV
CATEGORIES:Biggest Little Area in the World Area
END:VEVENT
BEGIN:VEVENT
DTSTART;TZID=America/Los_Angeles:20290413T180000
DTEND;TZID=America/Los_Angeles:20290413T190000
DTSTAMP:20260419T232705
CREATED:20250708T122241Z
LAST-MODIFIED:20250711T155643Z
UID:10000685-1870797600-1870801200@sierrasagena.org
SUMMARY:CANA H&I Subcommittee meeting
DESCRIPTION:Capital Area of Narcotics Anonymous; Hospitals and Institutions\, monthly subcommittee meeting
URL:https://sierrasagena.org/event/cana-hi-subcommittee-meeting/2029-04-13/
LOCATION:Round Table Pizza\, 185 Damonte Ranch Pkwy\, Reno\, NV\, 89511\, United States
CATEGORIES:Capital Area
ORGANIZER;CN="Bailey G":MAILTO:mammasquatch@outlook.com
END:VEVENT
END:VCALENDAR