BEGIN:VCALENDAR
VERSION:2.0
PRODID:-//Sierra Sage Region - ECPv6.15.20//NONSGML v1.0//EN
CALSCALE:GREGORIAN
METHOD:PUBLISH
X-ORIGINAL-URL:https://sierrasagena.org
X-WR-CALDESC:Events for Sierra Sage Region
REFRESH-INTERVAL;VALUE=DURATION:PT1H
X-Robots-Tag:noindex
X-PUBLISHED-TTL:PT1H
BEGIN:VTIMEZONE
TZID:America/Los_Angeles
BEGIN:DAYLIGHT
TZOFFSETFROM:-0800
TZOFFSETTO:-0700
TZNAME:PDT
DTSTART:20280312T100000
END:DAYLIGHT
BEGIN:STANDARD
TZOFFSETFROM:-0700
TZOFFSETTO:-0800
TZNAME:PST
DTSTART:20281105T090000
END:STANDARD
BEGIN:DAYLIGHT
TZOFFSETFROM:-0800
TZOFFSETTO:-0700
TZNAME:PDT
DTSTART:20290311T100000
END:DAYLIGHT
BEGIN:STANDARD
TZOFFSETFROM:-0700
TZOFFSETTO:-0800
TZNAME:PST
DTSTART:20291104T090000
END:STANDARD
BEGIN:DAYLIGHT
TZOFFSETFROM:-0800
TZOFFSETTO:-0700
TZNAME:PDT
DTSTART:20300310T100000
END:DAYLIGHT
BEGIN:STANDARD
TZOFFSETFROM:-0700
TZOFFSETTO:-0800
TZNAME:PST
DTSTART:20301103T090000
END:STANDARD
END:VTIMEZONE
BEGIN:VEVENT
DTSTART;TZID=America/Los_Angeles:20290427T190000
DTEND;TZID=America/Los_Angeles:20290427T203000
DTSTAMP:20260419T212222
CREATED:20250419T161054Z
LAST-MODIFIED:20250419T172243Z
UID:10000514-1872010800-1872016200@sierrasagena.org
SUMMARY:SSANA Monthly ASC Meeting
DESCRIPTION:South Shore Area of Narcotics Anonymous Area Service Committee:\nLocated at the Presbyterian Church in South Lake Tahoe at 2733 Lake Tahoe Blvd\, SLT\, CA 96150 \nASC meeting follows the Friday night meeting that takes place from 6pm – 7pm.
URL:https://sierrasagena.org/event/ssana-asc/2029-04-27/
LOCATION:Lake Tahoe Community Presbyterian Church\, 2733 Lake Tahoe Blvd.\, South Lake Tahoe\, CA\, 96150\, United States
CATEGORIES:South Lake Tahoe Area
END:VEVENT
BEGIN:VEVENT
DTSTART;TZID=America/Los_Angeles:20290501T180000
DTEND;TZID=America/Los_Angeles:20290501T190000
DTSTAMP:20260419T212222
CREATED:20260115T131553Z
LAST-MODIFIED:20260115T131553Z
UID:10000922-1872352800-1872356400@sierrasagena.org
SUMMARY:BLAW Activities Meeting
DESCRIPTION:Meet the 1st Tuesday of every month at scf upstairs in room 204
URL:https://sierrasagena.org/event/blaw-activities-meeting/2029-05-01/
LOCATION:Sparks Christian Fellowship\, 510 Greenbrae Dr\, Sparks\, NV\, 89431\, United States
END:VEVENT
BEGIN:VEVENT
DTSTART;TZID=America/Los_Angeles:20290506T110000
DTEND;TZID=America/Los_Angeles:20290506T123000
DTSTAMP:20260419T212222
CREATED:20250213T165911Z
LAST-MODIFIED:20250213T165911Z
UID:10000326-1872759600-1872765000@sierrasagena.org
SUMMARY:SSRCNA Committee Meeting
DESCRIPTION:Sierra Sage Regional Convention of Narcotics Anonymous committee meeting. 4635 Longley Lane Reno NV 89502
URL:https://sierrasagena.org/event/ssrcna-committee-meeting/2029-05-06/
LOCATION:NV
CATEGORIES:Sierra Sage Service Events/Meetings
END:VEVENT
BEGIN:VEVENT
DTSTART;TZID=America/Los_Angeles:20290507T200000
DTEND;TZID=America/Los_Angeles:20290507T210000
DTSTAMP:20260419T212222
CREATED:20250210T012402Z
LAST-MODIFIED:20250210T012402Z
UID:10000270-1872878400-1872882000@sierrasagena.org
SUMMARY:Sierra Sage Region of Narcotics Anonymous Online Meetings Subcommittee
DESCRIPTION:Bi-monthly business meeting of SSRNA OLM subcommittee.\nTakes place on the 1st Monday of every odd month.\nhttps://us02web.zoom.us/j/8762905567
URL:https://sierrasagena.org/event/sierra-sage-region-of-narcotics-anonymous-online-meetings-subcommittee/2029-05-07/
LOCATION:https://us02web.zoom.us/j/8762905567
CATEGORIES:Sierra Sage Service Events/Meetings
ATTACH;FMTTYPE=image/webp:https://sierrasagena.org/wp-content/uploads/2025/02/online-subcom-meeting-flyer.webp
ORGANIZER;CN="Judith B":MAILTO:judithannebarnes@gmail.com
END:VEVENT
BEGIN:VEVENT
DTSTART;TZID=America/Los_Angeles:20290508T180000
DTEND;TZID=America/Los_Angeles:20290508T190000
DTSTAMP:20260419T212222
CREATED:20250102T202419Z
LAST-MODIFIED:20250102T202419Z
UID:10000173-1872957600-1872961200@sierrasagena.org
SUMMARY:BLAW Public Relations Meeting
DESCRIPTION:We meet the second Tuesday of every month.
URL:https://sierrasagena.org/event/blaw-public-relations-meeting/2029-05-08/
LOCATION:NV
CATEGORIES:Biggest Little Area in the World Area
END:VEVENT
BEGIN:VEVENT
DTSTART;TZID=America/Los_Angeles:20290511T180000
DTEND;TZID=America/Los_Angeles:20290511T190000
DTSTAMP:20260419T212222
CREATED:20250708T122241Z
LAST-MODIFIED:20250711T155643Z
UID:10000686-1873216800-1873220400@sierrasagena.org
SUMMARY:CANA H&I Subcommittee meeting
DESCRIPTION:Capital Area of Narcotics Anonymous; Hospitals and Institutions\, monthly subcommittee meeting
URL:https://sierrasagena.org/event/cana-hi-subcommittee-meeting/2029-05-11/
LOCATION:Round Table Pizza\, 185 Damonte Ranch Pkwy\, Reno\, NV\, 89511\, United States
CATEGORIES:Capital Area
ORGANIZER;CN="Bailey G":MAILTO:mammasquatch@outlook.com
END:VEVENT
BEGIN:VEVENT
DTSTART;TZID=America/Los_Angeles:20290511T180000
DTEND;TZID=America/Los_Angeles:20290511T190000
DTSTAMP:20260419T212222
CREATED:20250708T122315Z
LAST-MODIFIED:20251008T000314Z
UID:10000746-1873216800-1873220400@sierrasagena.org
SUMMARY:CANA PR Subcommittee
DESCRIPTION:Capital Area of Narcotics Anonymous; monthly public relations subcommittee meeting
URL:https://sierrasagena.org/event/cana-pr-subcommittee/2029-05-11/
LOCATION:North Carson Round Table Pizza\, 3325 Retail Dr\, Carson City\, 89706\, United States
CATEGORIES:Capital Area,Sierra Sage Service Events/Meetings
ATTACH;FMTTYPE=image/webp:https://sierrasagena.org/wp-content/uploads/2025/07/Flyer-HI-and-PR-Subcommittee-Meeting-Tonight.png.webp
ORGANIZER;CN="Bailey G":MAILTO:mammasquatch@outlook.com
END:VEVENT
BEGIN:VEVENT
DTSTART;TZID=America/Los_Angeles:20290514T183000
DTEND;TZID=America/Los_Angeles:20290514T193000
DTSTAMP:20260419T212222
CREATED:20250102T201917Z
LAST-MODIFIED:20250908T125219Z
UID:10000113-1873477800-1873481400@sierrasagena.org
SUMMARY:BLAW Hospital and Institutions Monthly Meeting
DESCRIPTION:Please come and support H & I as we are always in need of volunteers.
URL:https://sierrasagena.org/event/blaw-hospital-and-institutions-monthly-meeting/2029-05-14/
LOCATION:Denny’s\, 205 Nugget Ave\, Sparks\, NV\, 89431\, United States
CATEGORIES:Biggest Little Area in the World Area
END:VEVENT
BEGIN:VEVENT
DTSTART;TZID=America/Los_Angeles:20290517T180000
DTEND;TZID=America/Los_Angeles:20290517T190000
DTSTAMP:20260419T212222
CREATED:20250708T122211Z
LAST-MODIFIED:20250708T122211Z
UID:10000626-1873735200-1873738800@sierrasagena.org
SUMMARY:CANA ASC Monthly Meeting
DESCRIPTION:Capital area of narcotics anonymous area service committee monthly meeting.
URL:https://sierrasagena.org/event/cana-asc-monthly-meeting/2029-05-17/
LOCATION:First United Methodist Church\, 200 N Division Street\, Carson City\, NV\, 89703\, United States
CATEGORIES:Capital Area
ORGANIZER;CN="Bailey G":MAILTO:mammasquatch@outlook.com
END:VEVENT
BEGIN:VEVENT
DTSTART;TZID=America/Los_Angeles:20290517T183000
DTEND;TZID=America/Los_Angeles:20290517T200000
DTSTAMP:20260419T212222
CREATED:20250102T202641Z
LAST-MODIFIED:20250102T202641Z
UID:10000233-1873737000-1873742400@sierrasagena.org
SUMMARY:BLAW Monthly ASC Meeting
DESCRIPTION:
URL:https://sierrasagena.org/event/blaw-monthly-asc-meeting/2029-05-17/
LOCATION:Sparks Christian Fellowship\, 510 Greenbrae Dr\, Sparks\, NV\, 89431\, United States
CATEGORIES:Biggest Little Area in the World Area
END:VEVENT
BEGIN:VEVENT
DTSTART;TZID=America/Los_Angeles:20290525T190000
DTEND;TZID=America/Los_Angeles:20290525T203000
DTSTAMP:20260419T212222
CREATED:20250419T161054Z
LAST-MODIFIED:20250419T172243Z
UID:10000553-1874430000-1874435400@sierrasagena.org
SUMMARY:SSANA Monthly ASC Meeting
DESCRIPTION:South Shore Area of Narcotics Anonymous Area Service Committee:\nLocated at the Presbyterian Church in South Lake Tahoe at 2733 Lake Tahoe Blvd\, SLT\, CA 96150 \nASC meeting follows the Friday night meeting that takes place from 6pm – 7pm.
URL:https://sierrasagena.org/event/ssana-asc/2029-05-25/
LOCATION:Lake Tahoe Community Presbyterian Church\, 2733 Lake Tahoe Blvd.\, South Lake Tahoe\, CA\, 96150\, United States
CATEGORIES:South Lake Tahoe Area
END:VEVENT
BEGIN:VEVENT
DTSTART;TZID=America/Los_Angeles:20290603T110000
DTEND;TZID=America/Los_Angeles:20290603T123000
DTSTAMP:20260419T212222
CREATED:20250213T165911Z
LAST-MODIFIED:20250213T165911Z
UID:10000327-1875178800-1875184200@sierrasagena.org
SUMMARY:SSRCNA Committee Meeting
DESCRIPTION:Sierra Sage Regional Convention of Narcotics Anonymous committee meeting. 4635 Longley Lane Reno NV 89502
URL:https://sierrasagena.org/event/ssrcna-committee-meeting/2029-06-03/
LOCATION:NV
CATEGORIES:Sierra Sage Service Events/Meetings
END:VEVENT
BEGIN:VEVENT
DTSTART;TZID=America/Los_Angeles:20290605T180000
DTEND;TZID=America/Los_Angeles:20290605T190000
DTSTAMP:20260419T212222
CREATED:20260115T131553Z
LAST-MODIFIED:20260115T131553Z
UID:10000923-1875376800-1875380400@sierrasagena.org
SUMMARY:BLAW Activities Meeting
DESCRIPTION:Meet the 1st Tuesday of every month at scf upstairs in room 204
URL:https://sierrasagena.org/event/blaw-activities-meeting/2029-06-05/
LOCATION:Sparks Christian Fellowship\, 510 Greenbrae Dr\, Sparks\, NV\, 89431\, United States
END:VEVENT
BEGIN:VEVENT
DTSTART;TZID=America/Los_Angeles:20290608T180000
DTEND;TZID=America/Los_Angeles:20290608T190000
DTSTAMP:20260419T212222
CREATED:20250708T122241Z
LAST-MODIFIED:20250711T155643Z
UID:10000687-1875636000-1875639600@sierrasagena.org
SUMMARY:CANA H&I Subcommittee meeting
DESCRIPTION:Capital Area of Narcotics Anonymous; Hospitals and Institutions\, monthly subcommittee meeting
URL:https://sierrasagena.org/event/cana-hi-subcommittee-meeting/2029-06-08/
LOCATION:Round Table Pizza\, 185 Damonte Ranch Pkwy\, Reno\, NV\, 89511\, United States
CATEGORIES:Capital Area
ORGANIZER;CN="Bailey G":MAILTO:mammasquatch@outlook.com
END:VEVENT
BEGIN:VEVENT
DTSTART;TZID=America/Los_Angeles:20290608T180000
DTEND;TZID=America/Los_Angeles:20290608T190000
DTSTAMP:20260419T212222
CREATED:20250708T122315Z
LAST-MODIFIED:20251008T000314Z
UID:10000747-1875636000-1875639600@sierrasagena.org
SUMMARY:CANA PR Subcommittee
DESCRIPTION:Capital Area of Narcotics Anonymous; monthly public relations subcommittee meeting
URL:https://sierrasagena.org/event/cana-pr-subcommittee/2029-06-08/
LOCATION:North Carson Round Table Pizza\, 3325 Retail Dr\, Carson City\, 89706\, United States
CATEGORIES:Capital Area,Sierra Sage Service Events/Meetings
ATTACH;FMTTYPE=image/webp:https://sierrasagena.org/wp-content/uploads/2025/07/Flyer-HI-and-PR-Subcommittee-Meeting-Tonight.png.webp
ORGANIZER;CN="Bailey G":MAILTO:mammasquatch@outlook.com
END:VEVENT
BEGIN:VEVENT
DTSTART;TZID=America/Los_Angeles:20290611T183000
DTEND;TZID=America/Los_Angeles:20290611T193000
DTSTAMP:20260419T212222
CREATED:20250102T201917Z
LAST-MODIFIED:20250908T125219Z
UID:10000114-1875897000-1875900600@sierrasagena.org
SUMMARY:BLAW Hospital and Institutions Monthly Meeting
DESCRIPTION:Please come and support H & I as we are always in need of volunteers.
URL:https://sierrasagena.org/event/blaw-hospital-and-institutions-monthly-meeting/2029-06-11/
LOCATION:Denny’s\, 205 Nugget Ave\, Sparks\, NV\, 89431\, United States
CATEGORIES:Biggest Little Area in the World Area
END:VEVENT
BEGIN:VEVENT
DTSTART;TZID=America/Los_Angeles:20290612T180000
DTEND;TZID=America/Los_Angeles:20290612T190000
DTSTAMP:20260419T212222
CREATED:20250102T202419Z
LAST-MODIFIED:20250102T202419Z
UID:10000174-1875981600-1875985200@sierrasagena.org
SUMMARY:BLAW Public Relations Meeting
DESCRIPTION:We meet the second Tuesday of every month.
URL:https://sierrasagena.org/event/blaw-public-relations-meeting/2029-06-12/
LOCATION:NV
CATEGORIES:Biggest Little Area in the World Area
END:VEVENT
BEGIN:VEVENT
DTSTART;TZID=America/Los_Angeles:20290621T180000
DTEND;TZID=America/Los_Angeles:20290621T190000
DTSTAMP:20260419T212222
CREATED:20250708T122211Z
LAST-MODIFIED:20250708T122211Z
UID:10000627-1876759200-1876762800@sierrasagena.org
SUMMARY:CANA ASC Monthly Meeting
DESCRIPTION:Capital area of narcotics anonymous area service committee monthly meeting.
URL:https://sierrasagena.org/event/cana-asc-monthly-meeting/2029-06-21/
LOCATION:First United Methodist Church\, 200 N Division Street\, Carson City\, NV\, 89703\, United States
CATEGORIES:Capital Area
ORGANIZER;CN="Bailey G":MAILTO:mammasquatch@outlook.com
END:VEVENT
BEGIN:VEVENT
DTSTART;TZID=America/Los_Angeles:20290621T183000
DTEND;TZID=America/Los_Angeles:20290621T200000
DTSTAMP:20260419T212222
CREATED:20250102T202641Z
LAST-MODIFIED:20250102T202641Z
UID:10000234-1876761000-1876766400@sierrasagena.org
SUMMARY:BLAW Monthly ASC Meeting
DESCRIPTION:
URL:https://sierrasagena.org/event/blaw-monthly-asc-meeting/2029-06-21/
LOCATION:Sparks Christian Fellowship\, 510 Greenbrae Dr\, Sparks\, NV\, 89431\, United States
CATEGORIES:Biggest Little Area in the World Area
END:VEVENT
BEGIN:VEVENT
DTSTART;TZID=America/Los_Angeles:20290629T190000
DTEND;TZID=America/Los_Angeles:20290629T203000
DTSTAMP:20260419T212222
CREATED:20250419T161054Z
LAST-MODIFIED:20250419T172243Z
UID:10000554-1877454000-1877459400@sierrasagena.org
SUMMARY:SSANA Monthly ASC Meeting
DESCRIPTION:South Shore Area of Narcotics Anonymous Area Service Committee:\nLocated at the Presbyterian Church in South Lake Tahoe at 2733 Lake Tahoe Blvd\, SLT\, CA 96150 \nASC meeting follows the Friday night meeting that takes place from 6pm – 7pm.
URL:https://sierrasagena.org/event/ssana-asc/2029-06-29/
LOCATION:Lake Tahoe Community Presbyterian Church\, 2733 Lake Tahoe Blvd.\, South Lake Tahoe\, CA\, 96150\, United States
CATEGORIES:South Lake Tahoe Area
END:VEVENT
BEGIN:VEVENT
DTSTART;TZID=America/Los_Angeles:20290701T110000
DTEND;TZID=America/Los_Angeles:20290701T123000
DTSTAMP:20260419T212222
CREATED:20250213T165911Z
LAST-MODIFIED:20250213T165911Z
UID:10000328-1877598000-1877603400@sierrasagena.org
SUMMARY:SSRCNA Committee Meeting
DESCRIPTION:Sierra Sage Regional Convention of Narcotics Anonymous committee meeting. 4635 Longley Lane Reno NV 89502
URL:https://sierrasagena.org/event/ssrcna-committee-meeting/2029-07-01/
LOCATION:NV
CATEGORIES:Sierra Sage Service Events/Meetings
END:VEVENT
BEGIN:VEVENT
DTSTART;TZID=America/Los_Angeles:20290702T200000
DTEND;TZID=America/Los_Angeles:20290702T210000
DTSTAMP:20260419T212222
CREATED:20250210T012402Z
LAST-MODIFIED:20250210T012402Z
UID:10000271-1877716800-1877720400@sierrasagena.org
SUMMARY:Sierra Sage Region of Narcotics Anonymous Online Meetings Subcommittee
DESCRIPTION:Bi-monthly business meeting of SSRNA OLM subcommittee.\nTakes place on the 1st Monday of every odd month.\nhttps://us02web.zoom.us/j/8762905567
URL:https://sierrasagena.org/event/sierra-sage-region-of-narcotics-anonymous-online-meetings-subcommittee/2029-07-02/
LOCATION:https://us02web.zoom.us/j/8762905567
CATEGORIES:Sierra Sage Service Events/Meetings
ATTACH;FMTTYPE=image/webp:https://sierrasagena.org/wp-content/uploads/2025/02/online-subcom-meeting-flyer.webp
ORGANIZER;CN="Judith B":MAILTO:judithannebarnes@gmail.com
END:VEVENT
BEGIN:VEVENT
DTSTART;TZID=America/Los_Angeles:20290703T180000
DTEND;TZID=America/Los_Angeles:20290703T190000
DTSTAMP:20260419T212222
CREATED:20260115T131553Z
LAST-MODIFIED:20260115T131553Z
UID:10000924-1877796000-1877799600@sierrasagena.org
SUMMARY:BLAW Activities Meeting
DESCRIPTION:Meet the 1st Tuesday of every month at scf upstairs in room 204
URL:https://sierrasagena.org/event/blaw-activities-meeting/2029-07-03/
LOCATION:Sparks Christian Fellowship\, 510 Greenbrae Dr\, Sparks\, NV\, 89431\, United States
END:VEVENT
BEGIN:VEVENT
DTSTART;TZID=America/Los_Angeles:20290709T183000
DTEND;TZID=America/Los_Angeles:20290709T193000
DTSTAMP:20260419T212222
CREATED:20250102T201917Z
LAST-MODIFIED:20250908T125219Z
UID:10000115-1878316200-1878319800@sierrasagena.org
SUMMARY:BLAW Hospital and Institutions Monthly Meeting
DESCRIPTION:Please come and support H & I as we are always in need of volunteers.
URL:https://sierrasagena.org/event/blaw-hospital-and-institutions-monthly-meeting/2029-07-09/
LOCATION:Denny’s\, 205 Nugget Ave\, Sparks\, NV\, 89431\, United States
CATEGORIES:Biggest Little Area in the World Area
END:VEVENT
BEGIN:VEVENT
DTSTART;TZID=America/Los_Angeles:20290710T180000
DTEND;TZID=America/Los_Angeles:20290710T190000
DTSTAMP:20260419T212222
CREATED:20250102T202419Z
LAST-MODIFIED:20250102T202419Z
UID:10000175-1878400800-1878404400@sierrasagena.org
SUMMARY:BLAW Public Relations Meeting
DESCRIPTION:We meet the second Tuesday of every month.
URL:https://sierrasagena.org/event/blaw-public-relations-meeting/2029-07-10/
LOCATION:NV
CATEGORIES:Biggest Little Area in the World Area
END:VEVENT
BEGIN:VEVENT
DTSTART;TZID=America/Los_Angeles:20290713T180000
DTEND;TZID=America/Los_Angeles:20290713T190000
DTSTAMP:20260419T212222
CREATED:20250708T122241Z
LAST-MODIFIED:20250711T155643Z
UID:10000688-1878660000-1878663600@sierrasagena.org
SUMMARY:CANA H&I Subcommittee meeting
DESCRIPTION:Capital Area of Narcotics Anonymous; Hospitals and Institutions\, monthly subcommittee meeting
URL:https://sierrasagena.org/event/cana-hi-subcommittee-meeting/2029-07-13/
LOCATION:Round Table Pizza\, 185 Damonte Ranch Pkwy\, Reno\, NV\, 89511\, United States
CATEGORIES:Capital Area
ORGANIZER;CN="Bailey G":MAILTO:mammasquatch@outlook.com
END:VEVENT
BEGIN:VEVENT
DTSTART;TZID=America/Los_Angeles:20290713T180000
DTEND;TZID=America/Los_Angeles:20290713T190000
DTSTAMP:20260419T212222
CREATED:20250708T122315Z
LAST-MODIFIED:20251008T000314Z
UID:10000748-1878660000-1878663600@sierrasagena.org
SUMMARY:CANA PR Subcommittee
DESCRIPTION:Capital Area of Narcotics Anonymous; monthly public relations subcommittee meeting
URL:https://sierrasagena.org/event/cana-pr-subcommittee/2029-07-13/
LOCATION:North Carson Round Table Pizza\, 3325 Retail Dr\, Carson City\, 89706\, United States
CATEGORIES:Capital Area,Sierra Sage Service Events/Meetings
ATTACH;FMTTYPE=image/webp:https://sierrasagena.org/wp-content/uploads/2025/07/Flyer-HI-and-PR-Subcommittee-Meeting-Tonight.png.webp
ORGANIZER;CN="Bailey G":MAILTO:mammasquatch@outlook.com
END:VEVENT
BEGIN:VEVENT
DTSTART;TZID=America/Los_Angeles:20290719T180000
DTEND;TZID=America/Los_Angeles:20290719T190000
DTSTAMP:20260419T212222
CREATED:20250708T122211Z
LAST-MODIFIED:20250708T122211Z
UID:10000628-1879178400-1879182000@sierrasagena.org
SUMMARY:CANA ASC Monthly Meeting
DESCRIPTION:Capital area of narcotics anonymous area service committee monthly meeting.
URL:https://sierrasagena.org/event/cana-asc-monthly-meeting/2029-07-19/
LOCATION:First United Methodist Church\, 200 N Division Street\, Carson City\, NV\, 89703\, United States
CATEGORIES:Capital Area
ORGANIZER;CN="Bailey G":MAILTO:mammasquatch@outlook.com
END:VEVENT
BEGIN:VEVENT
DTSTART;TZID=America/Los_Angeles:20290719T183000
DTEND;TZID=America/Los_Angeles:20290719T200000
DTSTAMP:20260419T212222
CREATED:20250102T202641Z
LAST-MODIFIED:20250102T202641Z
UID:10000235-1879180200-1879185600@sierrasagena.org
SUMMARY:BLAW Monthly ASC Meeting
DESCRIPTION:
URL:https://sierrasagena.org/event/blaw-monthly-asc-meeting/2029-07-19/
LOCATION:Sparks Christian Fellowship\, 510 Greenbrae Dr\, Sparks\, NV\, 89431\, United States
CATEGORIES:Biggest Little Area in the World Area
END:VEVENT
BEGIN:VEVENT
DTSTART;TZID=America/Los_Angeles:20290727T190000
DTEND;TZID=America/Los_Angeles:20290727T203000
DTSTAMP:20260419T212222
CREATED:20250419T161054Z
LAST-MODIFIED:20250419T172243Z
UID:10000555-1879873200-1879878600@sierrasagena.org
SUMMARY:SSANA Monthly ASC Meeting
DESCRIPTION:South Shore Area of Narcotics Anonymous Area Service Committee:\nLocated at the Presbyterian Church in South Lake Tahoe at 2733 Lake Tahoe Blvd\, SLT\, CA 96150 \nASC meeting follows the Friday night meeting that takes place from 6pm – 7pm.
URL:https://sierrasagena.org/event/ssana-asc/2029-07-27/
LOCATION:Lake Tahoe Community Presbyterian Church\, 2733 Lake Tahoe Blvd.\, South Lake Tahoe\, CA\, 96150\, United States
CATEGORIES:South Lake Tahoe Area
END:VEVENT
END:VCALENDAR