BEGIN:VCALENDAR
VERSION:2.0
PRODID:-//Sierra Sage Region - ECPv6.15.20//NONSGML v1.0//EN
CALSCALE:GREGORIAN
METHOD:PUBLISH
X-WR-CALNAME:Sierra Sage Region
X-ORIGINAL-URL:https://sierrasagena.org
X-WR-CALDESC:Events for Sierra Sage Region
REFRESH-INTERVAL;VALUE=DURATION:PT1H
X-Robots-Tag:noindex
X-PUBLISHED-TTL:PT1H
BEGIN:VTIMEZONE
TZID:America/Los_Angeles
BEGIN:DAYLIGHT
TZOFFSETFROM:-0800
TZOFFSETTO:-0700
TZNAME:PDT
DTSTART:20280312T100000
END:DAYLIGHT
BEGIN:STANDARD
TZOFFSETFROM:-0700
TZOFFSETTO:-0800
TZNAME:PST
DTSTART:20281105T090000
END:STANDARD
BEGIN:DAYLIGHT
TZOFFSETFROM:-0800
TZOFFSETTO:-0700
TZNAME:PDT
DTSTART:20290311T100000
END:DAYLIGHT
BEGIN:STANDARD
TZOFFSETFROM:-0700
TZOFFSETTO:-0800
TZNAME:PST
DTSTART:20291104T090000
END:STANDARD
BEGIN:DAYLIGHT
TZOFFSETFROM:-0800
TZOFFSETTO:-0700
TZNAME:PDT
DTSTART:20300310T100000
END:DAYLIGHT
BEGIN:STANDARD
TZOFFSETFROM:-0700
TZOFFSETTO:-0800
TZNAME:PST
DTSTART:20301103T090000
END:STANDARD
BEGIN:DAYLIGHT
TZOFFSETFROM:-0800
TZOFFSETTO:-0700
TZNAME:PDT
DTSTART:20310309T100000
END:DAYLIGHT
BEGIN:STANDARD
TZOFFSETFROM:-0700
TZOFFSETTO:-0800
TZNAME:PST
DTSTART:20311102T090000
END:STANDARD
END:VTIMEZONE
BEGIN:VEVENT
DTSTART;TZID=America/Los_Angeles:20291211T180000
DTEND;TZID=America/Los_Angeles:20291211T190000
DTSTAMP:20260420T082700
CREATED:20250102T202419Z
LAST-MODIFIED:20250102T202419Z
UID:10000180-1891706400-1891710000@sierrasagena.org
SUMMARY:BLAW Public Relations Meeting
DESCRIPTION:We meet the second Tuesday of every month.
URL:https://sierrasagena.org/event/blaw-public-relations-meeting/2029-12-11/
LOCATION:CA
CATEGORIES:Biggest Little Area in the World Area
END:VEVENT
BEGIN:VEVENT
DTSTART;TZID=America/Los_Angeles:20291214T180000
DTEND;TZID=America/Los_Angeles:20291214T190000
DTSTAMP:20260420T082700
CREATED:20250708T122241Z
LAST-MODIFIED:20250711T155643Z
UID:10000693-1891965600-1891969200@sierrasagena.org
SUMMARY:CANA H&I Subcommittee meeting
DESCRIPTION:Capital Area of Narcotics Anonymous; Hospitals and Institutions\, monthly subcommittee meeting
URL:https://sierrasagena.org/event/cana-hi-subcommittee-meeting/2029-12-14/
LOCATION:Round Table Pizza\, 185 Damonte Ranch Pkwy\, Reno\, NV\, 89511\, United States
CATEGORIES:Capital Area
ORGANIZER;CN="Bailey G":MAILTO:mammasquatch@outlook.com
END:VEVENT
BEGIN:VEVENT
DTSTART;TZID=America/Los_Angeles:20291214T180000
DTEND;TZID=America/Los_Angeles:20291214T190000
DTSTAMP:20260420T082700
CREATED:20250708T122315Z
LAST-MODIFIED:20251008T000314Z
UID:10000753-1891965600-1891969200@sierrasagena.org
SUMMARY:CANA PR Subcommittee
DESCRIPTION:Capital Area of Narcotics Anonymous; monthly public relations subcommittee meeting
URL:https://sierrasagena.org/event/cana-pr-subcommittee/2029-12-14/
LOCATION:North Carson Round Table Pizza\, 3325 Retail Dr\, Carson City\, 89706\, United States
CATEGORIES:Capital Area,Sierra Sage Service Events/Meetings
ATTACH;FMTTYPE=image/webp:https://sierrasagena.org/wp-content/uploads/2025/07/Flyer-HI-and-PR-Subcommittee-Meeting-Tonight.png.webp
ORGANIZER;CN="Bailey G":MAILTO:mammasquatch@outlook.com
END:VEVENT
BEGIN:VEVENT
DTSTART;TZID=America/Los_Angeles:20291220T180000
DTEND;TZID=America/Los_Angeles:20291220T190000
DTSTAMP:20260420T082700
CREATED:20250708T122211Z
LAST-MODIFIED:20250708T122211Z
UID:10000633-1892484000-1892487600@sierrasagena.org
SUMMARY:CANA ASC Monthly Meeting
DESCRIPTION:Capital area of narcotics anonymous area service committee monthly meeting.
URL:https://sierrasagena.org/event/cana-asc-monthly-meeting/2029-12-20/
LOCATION:First United Methodist Church\, 200 N Division Street\, Carson City\, NV\, 89703\, United States
CATEGORIES:Capital Area
ORGANIZER;CN="Bailey G":MAILTO:mammasquatch@outlook.com
END:VEVENT
BEGIN:VEVENT
DTSTART;TZID=America/Los_Angeles:20291220T183000
DTEND;TZID=America/Los_Angeles:20291220T200000
DTSTAMP:20260420T082700
CREATED:20250102T202641Z
LAST-MODIFIED:20250102T202641Z
UID:10000240-1892485800-1892491200@sierrasagena.org
SUMMARY:BLAW Monthly ASC Meeting
DESCRIPTION:
URL:https://sierrasagena.org/event/blaw-monthly-asc-meeting/2029-12-20/
LOCATION:Sparks Christian Fellowship\, 510 Greenbrae Dr\, Sparks\, NV\, 89431\, United States
CATEGORIES:Biggest Little Area in the World Area
END:VEVENT
BEGIN:VEVENT
DTSTART;TZID=America/Los_Angeles:20291228T190000
DTEND;TZID=America/Los_Angeles:20291228T203000
DTSTAMP:20260420T082700
CREATED:20250419T161054Z
LAST-MODIFIED:20250419T172243Z
UID:10000516-1893178800-1893184200@sierrasagena.org
SUMMARY:SSANA Monthly ASC Meeting
DESCRIPTION:South Shore Area of Narcotics Anonymous Area Service Committee:\nLocated at the Presbyterian Church in South Lake Tahoe at 2733 Lake Tahoe Blvd\, SLT\, CA 96150 \nASC meeting follows the Friday night meeting that takes place from 6pm – 7pm.
URL:https://sierrasagena.org/event/ssana-asc/2029-12-28/
LOCATION:Lake Tahoe Community Presbyterian Church\, 2733 Lake Tahoe Blvd.\, South Lake Tahoe\, CA\, 96150\, United States
CATEGORIES:South Lake Tahoe Area
END:VEVENT
BEGIN:VEVENT
DTSTART;TZID=America/Los_Angeles:20300101T180000
DTEND;TZID=America/Los_Angeles:20300101T190000
DTSTAMP:20260420T082700
CREATED:20260115T131553Z
LAST-MODIFIED:20260115T131553Z
UID:10000930-1893520800-1893524400@sierrasagena.org
SUMMARY:BLAW Activities Meeting
DESCRIPTION:Meet the 1st Tuesday of every month at scf upstairs in room 204
URL:https://sierrasagena.org/event/blaw-activities-meeting/2030-01-01/
LOCATION:Sparks Christian Fellowship\, 510 Greenbrae Dr\, Sparks\, NV\, 89431\, United States
END:VEVENT
BEGIN:VEVENT
DTSTART;TZID=America/Los_Angeles:20300106T110000
DTEND;TZID=America/Los_Angeles:20300106T123000
DTSTAMP:20260420T082700
CREATED:20250213T165911Z
LAST-MODIFIED:20250213T165911Z
UID:10000334-1893927600-1893933000@sierrasagena.org
SUMMARY:SSRCNA Committee Meeting
DESCRIPTION:Sierra Sage Regional Convention of Narcotics Anonymous committee meeting. 4635 Longley Lane Reno NV 89502
URL:https://sierrasagena.org/event/ssrcna-committee-meeting/2030-01-06/
LOCATION:CA
CATEGORIES:Sierra Sage Service Events/Meetings
END:VEVENT
BEGIN:VEVENT
DTSTART;TZID=America/Los_Angeles:20300107T200000
DTEND;TZID=America/Los_Angeles:20300107T210000
DTSTAMP:20260420T082700
CREATED:20250210T012402Z
LAST-MODIFIED:20250210T012402Z
UID:10000274-1894046400-1894050000@sierrasagena.org
SUMMARY:Sierra Sage Region of Narcotics Anonymous Online Meetings Subcommittee
DESCRIPTION:Bi-monthly business meeting of SSRNA OLM subcommittee.\nTakes place on the 1st Monday of every odd month.\nhttps://us02web.zoom.us/j/8762905567
URL:https://sierrasagena.org/event/sierra-sage-region-of-narcotics-anonymous-online-meetings-subcommittee/2030-01-07/
LOCATION:https://us02web.zoom.us/j/8762905567
CATEGORIES:Sierra Sage Service Events/Meetings
ATTACH;FMTTYPE=image/webp:https://sierrasagena.org/wp-content/uploads/2025/02/online-subcom-meeting-flyer.webp
ORGANIZER;CN="Judith B":MAILTO:judithannebarnes@gmail.com
END:VEVENT
BEGIN:VEVENT
DTSTART;TZID=America/Los_Angeles:20300111T180000
DTEND;TZID=America/Los_Angeles:20300111T190000
DTSTAMP:20260420T082700
CREATED:20250708T122241Z
LAST-MODIFIED:20250711T155643Z
UID:10000694-1894384800-1894388400@sierrasagena.org
SUMMARY:CANA H&I Subcommittee meeting
DESCRIPTION:Capital Area of Narcotics Anonymous; Hospitals and Institutions\, monthly subcommittee meeting
URL:https://sierrasagena.org/event/cana-hi-subcommittee-meeting/2030-01-11/
LOCATION:Round Table Pizza\, 185 Damonte Ranch Pkwy\, Reno\, NV\, 89511\, United States
CATEGORIES:Capital Area
ORGANIZER;CN="Bailey G":MAILTO:mammasquatch@outlook.com
END:VEVENT
BEGIN:VEVENT
DTSTART;TZID=America/Los_Angeles:20300111T180000
DTEND;TZID=America/Los_Angeles:20300111T190000
DTSTAMP:20260420T082700
CREATED:20250708T122315Z
LAST-MODIFIED:20251008T000314Z
UID:10000754-1894384800-1894388400@sierrasagena.org
SUMMARY:CANA PR Subcommittee
DESCRIPTION:Capital Area of Narcotics Anonymous; monthly public relations subcommittee meeting
URL:https://sierrasagena.org/event/cana-pr-subcommittee/2030-01-11/
LOCATION:North Carson Round Table Pizza\, 3325 Retail Dr\, Carson City\, 89706\, United States
CATEGORIES:Capital Area,Sierra Sage Service Events/Meetings
ATTACH;FMTTYPE=image/webp:https://sierrasagena.org/wp-content/uploads/2025/07/Flyer-HI-and-PR-Subcommittee-Meeting-Tonight.png.webp
ORGANIZER;CN="Bailey G":MAILTO:mammasquatch@outlook.com
END:VEVENT
BEGIN:VEVENT
DTSTART;TZID=America/Los_Angeles:20300114T183000
DTEND;TZID=America/Los_Angeles:20300114T193000
DTSTAMP:20260420T082700
CREATED:20250102T201917Z
LAST-MODIFIED:20250908T125219Z
UID:10000785-1894645800-1894649400@sierrasagena.org
SUMMARY:BLAW Hospital and Institutions Monthly Meeting
DESCRIPTION:Please come and support H & I as we are always in need of volunteers.
URL:https://sierrasagena.org/event/blaw-hospital-and-institutions-monthly-meeting/2030-01-14/
LOCATION:Denny’s\, 205 Nugget Ave\, Sparks\, NV\, 89431\, United States
CATEGORIES:Biggest Little Area in the World Area
END:VEVENT
BEGIN:VEVENT
DTSTART;TZID=America/Los_Angeles:20300117T180000
DTEND;TZID=America/Los_Angeles:20300117T190000
DTSTAMP:20260420T082700
CREATED:20250708T122211Z
LAST-MODIFIED:20250708T122211Z
UID:10000634-1894903200-1894906800@sierrasagena.org
SUMMARY:CANA ASC Monthly Meeting
DESCRIPTION:Capital area of narcotics anonymous area service committee monthly meeting.
URL:https://sierrasagena.org/event/cana-asc-monthly-meeting/2030-01-17/
LOCATION:First United Methodist Church\, 200 N Division Street\, Carson City\, NV\, 89703\, United States
CATEGORIES:Capital Area
ORGANIZER;CN="Bailey G":MAILTO:mammasquatch@outlook.com
END:VEVENT
BEGIN:VEVENT
DTSTART;TZID=America/Los_Angeles:20300125T190000
DTEND;TZID=America/Los_Angeles:20300125T203000
DTSTAMP:20260420T082700
CREATED:20250419T161054Z
LAST-MODIFIED:20250419T172243Z
UID:10000559-1895598000-1895603400@sierrasagena.org
SUMMARY:SSANA Monthly ASC Meeting
DESCRIPTION:South Shore Area of Narcotics Anonymous Area Service Committee:\nLocated at the Presbyterian Church in South Lake Tahoe at 2733 Lake Tahoe Blvd\, SLT\, CA 96150 \nASC meeting follows the Friday night meeting that takes place from 6pm – 7pm.
URL:https://sierrasagena.org/event/ssana-asc/2030-01-25/
LOCATION:Lake Tahoe Community Presbyterian Church\, 2733 Lake Tahoe Blvd.\, South Lake Tahoe\, CA\, 96150\, United States
CATEGORIES:South Lake Tahoe Area
END:VEVENT
BEGIN:VEVENT
DTSTART;TZID=America/Los_Angeles:20300203T110000
DTEND;TZID=America/Los_Angeles:20300203T123000
DTSTAMP:20260420T082700
CREATED:20250213T165911Z
LAST-MODIFIED:20250213T165911Z
UID:10000335-1896346800-1896352200@sierrasagena.org
SUMMARY:SSRCNA Committee Meeting
DESCRIPTION:Sierra Sage Regional Convention of Narcotics Anonymous committee meeting. 4635 Longley Lane Reno NV 89502
URL:https://sierrasagena.org/event/ssrcna-committee-meeting/2030-02-03/
LOCATION:CA
CATEGORIES:Sierra Sage Service Events/Meetings
END:VEVENT
BEGIN:VEVENT
DTSTART;TZID=America/Los_Angeles:20300205T180000
DTEND;TZID=America/Los_Angeles:20300205T190000
DTSTAMP:20260420T082700
CREATED:20260115T131553Z
LAST-MODIFIED:20260115T131553Z
UID:10000931-1896544800-1896548400@sierrasagena.org
SUMMARY:BLAW Activities Meeting
DESCRIPTION:Meet the 1st Tuesday of every month at scf upstairs in room 204
URL:https://sierrasagena.org/event/blaw-activities-meeting/2030-02-05/
LOCATION:Sparks Christian Fellowship\, 510 Greenbrae Dr\, Sparks\, NV\, 89431\, United States
END:VEVENT
BEGIN:VEVENT
DTSTART;TZID=America/Los_Angeles:20300208T180000
DTEND;TZID=America/Los_Angeles:20300208T190000
DTSTAMP:20260420T082700
CREATED:20250708T122241Z
LAST-MODIFIED:20250711T155643Z
UID:10000695-1896804000-1896807600@sierrasagena.org
SUMMARY:CANA H&I Subcommittee meeting
DESCRIPTION:Capital Area of Narcotics Anonymous; Hospitals and Institutions\, monthly subcommittee meeting
URL:https://sierrasagena.org/event/cana-hi-subcommittee-meeting/2030-02-08/
LOCATION:Round Table Pizza\, 185 Damonte Ranch Pkwy\, Reno\, NV\, 89511\, United States
CATEGORIES:Capital Area
ORGANIZER;CN="Bailey G":MAILTO:mammasquatch@outlook.com
END:VEVENT
BEGIN:VEVENT
DTSTART;TZID=America/Los_Angeles:20300208T180000
DTEND;TZID=America/Los_Angeles:20300208T190000
DTSTAMP:20260420T082700
CREATED:20250708T122315Z
LAST-MODIFIED:20251008T000314Z
UID:10000755-1896804000-1896807600@sierrasagena.org
SUMMARY:CANA PR Subcommittee
DESCRIPTION:Capital Area of Narcotics Anonymous; monthly public relations subcommittee meeting
URL:https://sierrasagena.org/event/cana-pr-subcommittee/2030-02-08/
LOCATION:North Carson Round Table Pizza\, 3325 Retail Dr\, Carson City\, 89706\, United States
CATEGORIES:Capital Area,Sierra Sage Service Events/Meetings
ATTACH;FMTTYPE=image/webp:https://sierrasagena.org/wp-content/uploads/2025/07/Flyer-HI-and-PR-Subcommittee-Meeting-Tonight.png.webp
ORGANIZER;CN="Bailey G":MAILTO:mammasquatch@outlook.com
END:VEVENT
BEGIN:VEVENT
DTSTART;TZID=America/Los_Angeles:20300211T183000
DTEND;TZID=America/Los_Angeles:20300211T193000
DTSTAMP:20260420T082700
CREATED:20250102T201917Z
LAST-MODIFIED:20250908T125219Z
UID:10000786-1897065000-1897068600@sierrasagena.org
SUMMARY:BLAW Hospital and Institutions Monthly Meeting
DESCRIPTION:Please come and support H & I as we are always in need of volunteers.
URL:https://sierrasagena.org/event/blaw-hospital-and-institutions-monthly-meeting/2030-02-11/
LOCATION:Denny’s\, 205 Nugget Ave\, Sparks\, NV\, 89431\, United States
CATEGORIES:Biggest Little Area in the World Area
END:VEVENT
BEGIN:VEVENT
DTSTART;TZID=America/Los_Angeles:20300221T180000
DTEND;TZID=America/Los_Angeles:20300221T190000
DTSTAMP:20260420T082700
CREATED:20250708T122211Z
LAST-MODIFIED:20250708T122211Z
UID:10000635-1897927200-1897930800@sierrasagena.org
SUMMARY:CANA ASC Monthly Meeting
DESCRIPTION:Capital area of narcotics anonymous area service committee monthly meeting.
URL:https://sierrasagena.org/event/cana-asc-monthly-meeting/2030-02-21/
LOCATION:First United Methodist Church\, 200 N Division Street\, Carson City\, NV\, 89703\, United States
CATEGORIES:Capital Area
ORGANIZER;CN="Bailey G":MAILTO:mammasquatch@outlook.com
END:VEVENT
BEGIN:VEVENT
DTSTART;TZID=America/Los_Angeles:20300222T190000
DTEND;TZID=America/Los_Angeles:20300222T203000
DTSTAMP:20260420T082700
CREATED:20250419T161054Z
LAST-MODIFIED:20250419T172243Z
UID:10000560-1898017200-1898022600@sierrasagena.org
SUMMARY:SSANA Monthly ASC Meeting
DESCRIPTION:South Shore Area of Narcotics Anonymous Area Service Committee:\nLocated at the Presbyterian Church in South Lake Tahoe at 2733 Lake Tahoe Blvd\, SLT\, CA 96150 \nASC meeting follows the Friday night meeting that takes place from 6pm – 7pm.
URL:https://sierrasagena.org/event/ssana-asc/2030-02-22/
LOCATION:Lake Tahoe Community Presbyterian Church\, 2733 Lake Tahoe Blvd.\, South Lake Tahoe\, CA\, 96150\, United States
CATEGORIES:South Lake Tahoe Area
END:VEVENT
BEGIN:VEVENT
DTSTART;TZID=America/Los_Angeles:20300305T180000
DTEND;TZID=America/Los_Angeles:20300305T190000
DTSTAMP:20260420T082700
CREATED:20260115T131553Z
LAST-MODIFIED:20260115T131553Z
UID:10000932-1898964000-1898967600@sierrasagena.org
SUMMARY:BLAW Activities Meeting
DESCRIPTION:Meet the 1st Tuesday of every month at scf upstairs in room 204
URL:https://sierrasagena.org/event/blaw-activities-meeting/2030-03-05/
LOCATION:Sparks Christian Fellowship\, 510 Greenbrae Dr\, Sparks\, NV\, 89431\, United States
END:VEVENT
BEGIN:VEVENT
DTSTART;TZID=America/Los_Angeles:20300308T180000
DTEND;TZID=America/Los_Angeles:20300308T190000
DTSTAMP:20260420T082700
CREATED:20250708T122241Z
LAST-MODIFIED:20250711T155643Z
UID:10000696-1899223200-1899226800@sierrasagena.org
SUMMARY:CANA H&I Subcommittee meeting
DESCRIPTION:Capital Area of Narcotics Anonymous; Hospitals and Institutions\, monthly subcommittee meeting
URL:https://sierrasagena.org/event/cana-hi-subcommittee-meeting/2030-03-08/
LOCATION:Round Table Pizza\, 185 Damonte Ranch Pkwy\, Reno\, NV\, 89511\, United States
CATEGORIES:Capital Area
ORGANIZER;CN="Bailey G":MAILTO:mammasquatch@outlook.com
END:VEVENT
BEGIN:VEVENT
DTSTART;TZID=America/Los_Angeles:20300308T180000
DTEND;TZID=America/Los_Angeles:20300308T190000
DTSTAMP:20260420T082700
CREATED:20250708T122315Z
LAST-MODIFIED:20251008T000314Z
UID:10000756-1899223200-1899226800@sierrasagena.org
SUMMARY:CANA PR Subcommittee
DESCRIPTION:Capital Area of Narcotics Anonymous; monthly public relations subcommittee meeting
URL:https://sierrasagena.org/event/cana-pr-subcommittee/2030-03-08/
LOCATION:North Carson Round Table Pizza\, 3325 Retail Dr\, Carson City\, 89706\, United States
CATEGORIES:Capital Area,Sierra Sage Service Events/Meetings
ATTACH;FMTTYPE=image/webp:https://sierrasagena.org/wp-content/uploads/2025/07/Flyer-HI-and-PR-Subcommittee-Meeting-Tonight.png.webp
ORGANIZER;CN="Bailey G":MAILTO:mammasquatch@outlook.com
END:VEVENT
BEGIN:VEVENT
DTSTART;TZID=America/Los_Angeles:20300311T183000
DTEND;TZID=America/Los_Angeles:20300311T193000
DTSTAMP:20260420T082700
CREATED:20250102T201917Z
LAST-MODIFIED:20250908T125219Z
UID:10000787-1899484200-1899487800@sierrasagena.org
SUMMARY:BLAW Hospital and Institutions Monthly Meeting
DESCRIPTION:Please come and support H & I as we are always in need of volunteers.
URL:https://sierrasagena.org/event/blaw-hospital-and-institutions-monthly-meeting/2030-03-11/
LOCATION:Denny’s\, 205 Nugget Ave\, Sparks\, NV\, 89431\, United States
CATEGORIES:Biggest Little Area in the World Area
END:VEVENT
BEGIN:VEVENT
DTSTART;TZID=America/Los_Angeles:20300321T180000
DTEND;TZID=America/Los_Angeles:20300321T190000
DTSTAMP:20260420T082700
CREATED:20250708T122211Z
LAST-MODIFIED:20250708T122211Z
UID:10000636-1900346400-1900350000@sierrasagena.org
SUMMARY:CANA ASC Monthly Meeting
DESCRIPTION:Capital area of narcotics anonymous area service committee monthly meeting.
URL:https://sierrasagena.org/event/cana-asc-monthly-meeting/2030-03-21/
LOCATION:First United Methodist Church\, 200 N Division Street\, Carson City\, NV\, 89703\, United States
CATEGORIES:Capital Area
ORGANIZER;CN="Bailey G":MAILTO:mammasquatch@outlook.com
END:VEVENT
BEGIN:VEVENT
DTSTART;TZID=America/Los_Angeles:20300329T190000
DTEND;TZID=America/Los_Angeles:20300329T203000
DTSTAMP:20260420T082700
CREATED:20250419T161054Z
LAST-MODIFIED:20250419T172243Z
UID:10000561-1901041200-1901046600@sierrasagena.org
SUMMARY:SSANA Monthly ASC Meeting
DESCRIPTION:South Shore Area of Narcotics Anonymous Area Service Committee:\nLocated at the Presbyterian Church in South Lake Tahoe at 2733 Lake Tahoe Blvd\, SLT\, CA 96150 \nASC meeting follows the Friday night meeting that takes place from 6pm – 7pm.
URL:https://sierrasagena.org/event/ssana-asc/2030-03-29/
LOCATION:Lake Tahoe Community Presbyterian Church\, 2733 Lake Tahoe Blvd.\, South Lake Tahoe\, CA\, 96150\, United States
CATEGORIES:South Lake Tahoe Area
END:VEVENT
BEGIN:VEVENT
DTSTART;TZID=America/Los_Angeles:20300402T180000
DTEND;TZID=America/Los_Angeles:20300402T190000
DTSTAMP:20260420T082700
CREATED:20260115T131553Z
LAST-MODIFIED:20260115T131553Z
UID:10000933-1901383200-1901386800@sierrasagena.org
SUMMARY:BLAW Activities Meeting
DESCRIPTION:Meet the 1st Tuesday of every month at scf upstairs in room 204
URL:https://sierrasagena.org/event/blaw-activities-meeting/2030-04-02/
LOCATION:Sparks Christian Fellowship\, 510 Greenbrae Dr\, Sparks\, NV\, 89431\, United States
END:VEVENT
BEGIN:VEVENT
DTSTART;TZID=America/Los_Angeles:20300408T183000
DTEND;TZID=America/Los_Angeles:20300408T193000
DTSTAMP:20260420T082700
CREATED:20250102T201917Z
LAST-MODIFIED:20250908T125219Z
UID:10000788-1901903400-1901907000@sierrasagena.org
SUMMARY:BLAW Hospital and Institutions Monthly Meeting
DESCRIPTION:Please come and support H & I as we are always in need of volunteers.
URL:https://sierrasagena.org/event/blaw-hospital-and-institutions-monthly-meeting/2030-04-08/
LOCATION:Denny’s\, 205 Nugget Ave\, Sparks\, NV\, 89431\, United States
CATEGORIES:Biggest Little Area in the World Area
END:VEVENT
BEGIN:VEVENT
DTSTART;TZID=America/Los_Angeles:20300412T180000
DTEND;TZID=America/Los_Angeles:20300412T190000
DTSTAMP:20260420T082700
CREATED:20250708T122241Z
LAST-MODIFIED:20250711T155643Z
UID:10000697-1902247200-1902250800@sierrasagena.org
SUMMARY:CANA H&I Subcommittee meeting
DESCRIPTION:Capital Area of Narcotics Anonymous; Hospitals and Institutions\, monthly subcommittee meeting
URL:https://sierrasagena.org/event/cana-hi-subcommittee-meeting/2030-04-12/
LOCATION:Round Table Pizza\, 185 Damonte Ranch Pkwy\, Reno\, NV\, 89511\, United States
CATEGORIES:Capital Area
ORGANIZER;CN="Bailey G":MAILTO:mammasquatch@outlook.com
END:VEVENT
END:VCALENDAR