BEGIN:VCALENDAR
VERSION:2.0
PRODID:-//Sierra Sage Region - ECPv6.15.20//NONSGML v1.0//EN
CALSCALE:GREGORIAN
METHOD:PUBLISH
X-ORIGINAL-URL:https://sierrasagena.org
X-WR-CALDESC:Events for Sierra Sage Region
REFRESH-INTERVAL;VALUE=DURATION:PT1H
X-Robots-Tag:noindex
X-PUBLISHED-TTL:PT1H
BEGIN:VTIMEZONE
TZID:America/Los_Angeles
BEGIN:DAYLIGHT
TZOFFSETFROM:-0800
TZOFFSETTO:-0700
TZNAME:PDT
DTSTART:20290311T100000
END:DAYLIGHT
BEGIN:STANDARD
TZOFFSETFROM:-0700
TZOFFSETTO:-0800
TZNAME:PST
DTSTART:20291104T090000
END:STANDARD
BEGIN:DAYLIGHT
TZOFFSETFROM:-0800
TZOFFSETTO:-0700
TZNAME:PDT
DTSTART:20300310T100000
END:DAYLIGHT
BEGIN:STANDARD
TZOFFSETFROM:-0700
TZOFFSETTO:-0800
TZNAME:PST
DTSTART:20301103T090000
END:STANDARD
BEGIN:DAYLIGHT
TZOFFSETFROM:-0800
TZOFFSETTO:-0700
TZNAME:PDT
DTSTART:20310309T100000
END:DAYLIGHT
BEGIN:STANDARD
TZOFFSETFROM:-0700
TZOFFSETTO:-0800
TZNAME:PST
DTSTART:20311102T090000
END:STANDARD
BEGIN:DAYLIGHT
TZOFFSETFROM:-0800
TZOFFSETTO:-0700
TZNAME:PDT
DTSTART:20320314T100000
END:DAYLIGHT
BEGIN:STANDARD
TZOFFSETFROM:-0700
TZOFFSETTO:-0800
TZNAME:PST
DTSTART:20321107T090000
END:STANDARD
END:VTIMEZONE
BEGIN:VEVENT
DTSTART;TZID=America/Los_Angeles:20300311T183000
DTEND;TZID=America/Los_Angeles:20300311T193000
DTSTAMP:20260420T191411
CREATED:20250102T201917Z
LAST-MODIFIED:20250908T125219Z
UID:10000787-1899484200-1899487800@sierrasagena.org
SUMMARY:BLAW Hospital and Institutions Monthly Meeting
DESCRIPTION:Please come and support H & I as we are always in need of volunteers.
URL:https://sierrasagena.org/event/blaw-hospital-and-institutions-monthly-meeting/2030-03-11/
LOCATION:Denny’s\, 205 Nugget Ave\, Sparks\, NV\, 89431\, United States
CATEGORIES:Biggest Little Area in the World Area
END:VEVENT
BEGIN:VEVENT
DTSTART;TZID=America/Los_Angeles:20300321T180000
DTEND;TZID=America/Los_Angeles:20300321T190000
DTSTAMP:20260420T191411
CREATED:20250708T122211Z
LAST-MODIFIED:20250708T122211Z
UID:10000636-1900346400-1900350000@sierrasagena.org
SUMMARY:CANA ASC Monthly Meeting
DESCRIPTION:Capital area of narcotics anonymous area service committee monthly meeting.
URL:https://sierrasagena.org/event/cana-asc-monthly-meeting/2030-03-21/
LOCATION:First United Methodist Church\, 200 N Division Street\, Carson City\, NV\, 89703\, United States
CATEGORIES:Capital Area
ORGANIZER;CN="Bailey G":MAILTO:mammasquatch@outlook.com
END:VEVENT
BEGIN:VEVENT
DTSTART;TZID=America/Los_Angeles:20300329T190000
DTEND;TZID=America/Los_Angeles:20300329T203000
DTSTAMP:20260420T191411
CREATED:20250419T161054Z
LAST-MODIFIED:20250419T172243Z
UID:10000561-1901041200-1901046600@sierrasagena.org
SUMMARY:SSANA Monthly ASC Meeting
DESCRIPTION:South Shore Area of Narcotics Anonymous Area Service Committee:\nLocated at the Presbyterian Church in South Lake Tahoe at 2733 Lake Tahoe Blvd\, SLT\, CA 96150 \nASC meeting follows the Friday night meeting that takes place from 6pm – 7pm.
URL:https://sierrasagena.org/event/ssana-asc/2030-03-29/
LOCATION:Lake Tahoe Community Presbyterian Church\, 2733 Lake Tahoe Blvd.\, South Lake Tahoe\, CA\, 96150\, United States
CATEGORIES:South Lake Tahoe Area
END:VEVENT
BEGIN:VEVENT
DTSTART;TZID=America/Los_Angeles:20300402T180000
DTEND;TZID=America/Los_Angeles:20300402T190000
DTSTAMP:20260420T191411
CREATED:20260115T131553Z
LAST-MODIFIED:20260115T131553Z
UID:10000933-1901383200-1901386800@sierrasagena.org
SUMMARY:BLAW Activities Meeting
DESCRIPTION:Meet the 1st Tuesday of every month at scf upstairs in room 204
URL:https://sierrasagena.org/event/blaw-activities-meeting/2030-04-02/
LOCATION:Sparks Christian Fellowship\, 510 Greenbrae Dr\, Sparks\, NV\, 89431\, United States
END:VEVENT
BEGIN:VEVENT
DTSTART;TZID=America/Los_Angeles:20300408T183000
DTEND;TZID=America/Los_Angeles:20300408T193000
DTSTAMP:20260420T191411
CREATED:20250102T201917Z
LAST-MODIFIED:20250908T125219Z
UID:10000788-1901903400-1901907000@sierrasagena.org
SUMMARY:BLAW Hospital and Institutions Monthly Meeting
DESCRIPTION:Please come and support H & I as we are always in need of volunteers.
URL:https://sierrasagena.org/event/blaw-hospital-and-institutions-monthly-meeting/2030-04-08/
LOCATION:Denny’s\, 205 Nugget Ave\, Sparks\, NV\, 89431\, United States
CATEGORIES:Biggest Little Area in the World Area
END:VEVENT
BEGIN:VEVENT
DTSTART;TZID=America/Los_Angeles:20300412T180000
DTEND;TZID=America/Los_Angeles:20300412T190000
DTSTAMP:20260420T191411
CREATED:20250708T122241Z
LAST-MODIFIED:20250711T155643Z
UID:10000697-1902247200-1902250800@sierrasagena.org
SUMMARY:CANA H&I Subcommittee meeting
DESCRIPTION:Capital Area of Narcotics Anonymous; Hospitals and Institutions\, monthly subcommittee meeting
URL:https://sierrasagena.org/event/cana-hi-subcommittee-meeting/2030-04-12/
LOCATION:Round Table Pizza\, 185 Damonte Ranch Pkwy\, Reno\, NV\, 89511\, United States
CATEGORIES:Capital Area
ORGANIZER;CN="Bailey G":MAILTO:mammasquatch@outlook.com
END:VEVENT
BEGIN:VEVENT
DTSTART;TZID=America/Los_Angeles:20300412T180000
DTEND;TZID=America/Los_Angeles:20300412T190000
DTSTAMP:20260420T191411
CREATED:20250708T122315Z
LAST-MODIFIED:20251008T000314Z
UID:10000757-1902247200-1902250800@sierrasagena.org
SUMMARY:CANA PR Subcommittee
DESCRIPTION:Capital Area of Narcotics Anonymous; monthly public relations subcommittee meeting
URL:https://sierrasagena.org/event/cana-pr-subcommittee/2030-04-12/
LOCATION:North Carson Round Table Pizza\, 3325 Retail Dr\, Carson City\, 89706\, United States
CATEGORIES:Capital Area,Sierra Sage Service Events/Meetings
ATTACH;FMTTYPE=image/webp:https://sierrasagena.org/wp-content/uploads/2025/07/Flyer-HI-and-PR-Subcommittee-Meeting-Tonight.png.webp
ORGANIZER;CN="Bailey G":MAILTO:mammasquatch@outlook.com
END:VEVENT
BEGIN:VEVENT
DTSTART;TZID=America/Los_Angeles:20300418T180000
DTEND;TZID=America/Los_Angeles:20300418T190000
DTSTAMP:20260420T191411
CREATED:20250708T122211Z
LAST-MODIFIED:20250708T122211Z
UID:10000637-1902765600-1902769200@sierrasagena.org
SUMMARY:CANA ASC Monthly Meeting
DESCRIPTION:Capital area of narcotics anonymous area service committee monthly meeting.
URL:https://sierrasagena.org/event/cana-asc-monthly-meeting/2030-04-18/
LOCATION:First United Methodist Church\, 200 N Division Street\, Carson City\, NV\, 89703\, United States
CATEGORIES:Capital Area
ORGANIZER;CN="Bailey G":MAILTO:mammasquatch@outlook.com
END:VEVENT
BEGIN:VEVENT
DTSTART;TZID=America/Los_Angeles:20300507T180000
DTEND;TZID=America/Los_Angeles:20300507T190000
DTSTAMP:20260420T191411
CREATED:20260115T131553Z
LAST-MODIFIED:20260115T131553Z
UID:10000934-1904407200-1904410800@sierrasagena.org
SUMMARY:BLAW Activities Meeting
DESCRIPTION:Meet the 1st Tuesday of every month at scf upstairs in room 204
URL:https://sierrasagena.org/event/blaw-activities-meeting/2030-05-07/
LOCATION:Sparks Christian Fellowship\, 510 Greenbrae Dr\, Sparks\, NV\, 89431\, United States
END:VEVENT
BEGIN:VEVENT
DTSTART;TZID=America/Los_Angeles:20300510T180000
DTEND;TZID=America/Los_Angeles:20300510T190000
DTSTAMP:20260420T191411
CREATED:20250708T122241Z
LAST-MODIFIED:20250711T155643Z
UID:10000698-1904666400-1904670000@sierrasagena.org
SUMMARY:CANA H&I Subcommittee meeting
DESCRIPTION:Capital Area of Narcotics Anonymous; Hospitals and Institutions\, monthly subcommittee meeting
URL:https://sierrasagena.org/event/cana-hi-subcommittee-meeting/2030-05-10/
LOCATION:Round Table Pizza\, 185 Damonte Ranch Pkwy\, Reno\, NV\, 89511\, United States
CATEGORIES:Capital Area
ORGANIZER;CN="Bailey G":MAILTO:mammasquatch@outlook.com
END:VEVENT
BEGIN:VEVENT
DTSTART;TZID=America/Los_Angeles:20300510T180000
DTEND;TZID=America/Los_Angeles:20300510T190000
DTSTAMP:20260420T191411
CREATED:20250708T122315Z
LAST-MODIFIED:20251008T000314Z
UID:10000758-1904666400-1904670000@sierrasagena.org
SUMMARY:CANA PR Subcommittee
DESCRIPTION:Capital Area of Narcotics Anonymous; monthly public relations subcommittee meeting
URL:https://sierrasagena.org/event/cana-pr-subcommittee/2030-05-10/
LOCATION:North Carson Round Table Pizza\, 3325 Retail Dr\, Carson City\, 89706\, United States
CATEGORIES:Capital Area,Sierra Sage Service Events/Meetings
ATTACH;FMTTYPE=image/webp:https://sierrasagena.org/wp-content/uploads/2025/07/Flyer-HI-and-PR-Subcommittee-Meeting-Tonight.png.webp
ORGANIZER;CN="Bailey G":MAILTO:mammasquatch@outlook.com
END:VEVENT
BEGIN:VEVENT
DTSTART;TZID=America/Los_Angeles:20300513T183000
DTEND;TZID=America/Los_Angeles:20300513T193000
DTSTAMP:20260420T191411
CREATED:20250102T201917Z
LAST-MODIFIED:20250908T125219Z
UID:10000789-1904927400-1904931000@sierrasagena.org
SUMMARY:BLAW Hospital and Institutions Monthly Meeting
DESCRIPTION:Please come and support H & I as we are always in need of volunteers.
URL:https://sierrasagena.org/event/blaw-hospital-and-institutions-monthly-meeting/2030-05-13/
LOCATION:Denny’s\, 205 Nugget Ave\, Sparks\, NV\, 89431\, United States
CATEGORIES:Biggest Little Area in the World Area
END:VEVENT
BEGIN:VEVENT
DTSTART;TZID=America/Los_Angeles:20300516T180000
DTEND;TZID=America/Los_Angeles:20300516T190000
DTSTAMP:20260420T191411
CREATED:20250708T122211Z
LAST-MODIFIED:20250708T122211Z
UID:10000638-1905184800-1905188400@sierrasagena.org
SUMMARY:CANA ASC Monthly Meeting
DESCRIPTION:Capital area of narcotics anonymous area service committee monthly meeting.
URL:https://sierrasagena.org/event/cana-asc-monthly-meeting/2030-05-16/
LOCATION:First United Methodist Church\, 200 N Division Street\, Carson City\, NV\, 89703\, United States
CATEGORIES:Capital Area
ORGANIZER;CN="Bailey G":MAILTO:mammasquatch@outlook.com
END:VEVENT
BEGIN:VEVENT
DTSTART;TZID=America/Los_Angeles:20300604T180000
DTEND;TZID=America/Los_Angeles:20300604T190000
DTSTAMP:20260420T191411
CREATED:20260115T131553Z
LAST-MODIFIED:20260115T131553Z
UID:10000935-1906826400-1906830000@sierrasagena.org
SUMMARY:BLAW Activities Meeting
DESCRIPTION:Meet the 1st Tuesday of every month at scf upstairs in room 204
URL:https://sierrasagena.org/event/blaw-activities-meeting/2030-06-04/
LOCATION:Sparks Christian Fellowship\, 510 Greenbrae Dr\, Sparks\, NV\, 89431\, United States
END:VEVENT
BEGIN:VEVENT
DTSTART;TZID=America/Los_Angeles:20300610T183000
DTEND;TZID=America/Los_Angeles:20300610T193000
DTSTAMP:20260420T191411
CREATED:20250102T201917Z
LAST-MODIFIED:20250908T125219Z
UID:10000790-1907346600-1907350200@sierrasagena.org
SUMMARY:BLAW Hospital and Institutions Monthly Meeting
DESCRIPTION:Please come and support H & I as we are always in need of volunteers.
URL:https://sierrasagena.org/event/blaw-hospital-and-institutions-monthly-meeting/2030-06-10/
LOCATION:Denny’s\, 205 Nugget Ave\, Sparks\, NV\, 89431\, United States
CATEGORIES:Biggest Little Area in the World Area
END:VEVENT
BEGIN:VEVENT
DTSTART;TZID=America/Los_Angeles:20300614T180000
DTEND;TZID=America/Los_Angeles:20300614T190000
DTSTAMP:20260420T191411
CREATED:20250708T122241Z
LAST-MODIFIED:20250711T155643Z
UID:10000699-1907690400-1907694000@sierrasagena.org
SUMMARY:CANA H&I Subcommittee meeting
DESCRIPTION:Capital Area of Narcotics Anonymous; Hospitals and Institutions\, monthly subcommittee meeting
URL:https://sierrasagena.org/event/cana-hi-subcommittee-meeting/2030-06-14/
LOCATION:Round Table Pizza\, 185 Damonte Ranch Pkwy\, Reno\, NV\, 89511\, United States
CATEGORIES:Capital Area
ORGANIZER;CN="Bailey G":MAILTO:mammasquatch@outlook.com
END:VEVENT
BEGIN:VEVENT
DTSTART;TZID=America/Los_Angeles:20300614T180000
DTEND;TZID=America/Los_Angeles:20300614T190000
DTSTAMP:20260420T191411
CREATED:20250708T122315Z
LAST-MODIFIED:20251008T000314Z
UID:10000759-1907690400-1907694000@sierrasagena.org
SUMMARY:CANA PR Subcommittee
DESCRIPTION:Capital Area of Narcotics Anonymous; monthly public relations subcommittee meeting
URL:https://sierrasagena.org/event/cana-pr-subcommittee/2030-06-14/
LOCATION:North Carson Round Table Pizza\, 3325 Retail Dr\, Carson City\, 89706\, United States
CATEGORIES:Capital Area,Sierra Sage Service Events/Meetings
ATTACH;FMTTYPE=image/webp:https://sierrasagena.org/wp-content/uploads/2025/07/Flyer-HI-and-PR-Subcommittee-Meeting-Tonight.png.webp
ORGANIZER;CN="Bailey G":MAILTO:mammasquatch@outlook.com
END:VEVENT
BEGIN:VEVENT
DTSTART;TZID=America/Los_Angeles:20300620T180000
DTEND;TZID=America/Los_Angeles:20300620T190000
DTSTAMP:20260420T191411
CREATED:20250708T122211Z
LAST-MODIFIED:20250708T122211Z
UID:10000639-1908208800-1908212400@sierrasagena.org
SUMMARY:CANA ASC Monthly Meeting
DESCRIPTION:Capital area of narcotics anonymous area service committee monthly meeting.
URL:https://sierrasagena.org/event/cana-asc-monthly-meeting/2030-06-20/
LOCATION:First United Methodist Church\, 200 N Division Street\, Carson City\, NV\, 89703\, United States
CATEGORIES:Capital Area
ORGANIZER;CN="Bailey G":MAILTO:mammasquatch@outlook.com
END:VEVENT
BEGIN:VEVENT
DTSTART;TZID=America/Los_Angeles:20300702T180000
DTEND;TZID=America/Los_Angeles:20300702T190000
DTSTAMP:20260420T191411
CREATED:20260115T131553Z
LAST-MODIFIED:20260115T131553Z
UID:10000936-1909245600-1909249200@sierrasagena.org
SUMMARY:BLAW Activities Meeting
DESCRIPTION:Meet the 1st Tuesday of every month at scf upstairs in room 204
URL:https://sierrasagena.org/event/blaw-activities-meeting/2030-07-02/
LOCATION:Sparks Christian Fellowship\, 510 Greenbrae Dr\, Sparks\, NV\, 89431\, United States
END:VEVENT
BEGIN:VEVENT
DTSTART;TZID=America/Los_Angeles:20300708T183000
DTEND;TZID=America/Los_Angeles:20300708T193000
DTSTAMP:20260420T191411
CREATED:20250102T201917Z
LAST-MODIFIED:20250908T125219Z
UID:10000791-1909765800-1909769400@sierrasagena.org
SUMMARY:BLAW Hospital and Institutions Monthly Meeting
DESCRIPTION:Please come and support H & I as we are always in need of volunteers.
URL:https://sierrasagena.org/event/blaw-hospital-and-institutions-monthly-meeting/2030-07-08/
LOCATION:Denny’s\, 205 Nugget Ave\, Sparks\, NV\, 89431\, United States
CATEGORIES:Biggest Little Area in the World Area
END:VEVENT
BEGIN:VEVENT
DTSTART;TZID=America/Los_Angeles:20300806T180000
DTEND;TZID=America/Los_Angeles:20300806T190000
DTSTAMP:20260420T191411
CREATED:20260115T131553Z
LAST-MODIFIED:20260115T131553Z
UID:10000937-1912269600-1912273200@sierrasagena.org
SUMMARY:BLAW Activities Meeting
DESCRIPTION:Meet the 1st Tuesday of every month at scf upstairs in room 204
URL:https://sierrasagena.org/event/blaw-activities-meeting/2030-08-06/
LOCATION:Sparks Christian Fellowship\, 510 Greenbrae Dr\, Sparks\, NV\, 89431\, United States
END:VEVENT
BEGIN:VEVENT
DTSTART;TZID=America/Los_Angeles:20300812T183000
DTEND;TZID=America/Los_Angeles:20300812T193000
DTSTAMP:20260420T191411
CREATED:20250102T201917Z
LAST-MODIFIED:20250908T125219Z
UID:10000792-1912789800-1912793400@sierrasagena.org
SUMMARY:BLAW Hospital and Institutions Monthly Meeting
DESCRIPTION:Please come and support H & I as we are always in need of volunteers.
URL:https://sierrasagena.org/event/blaw-hospital-and-institutions-monthly-meeting/2030-08-12/
LOCATION:Denny’s\, 205 Nugget Ave\, Sparks\, NV\, 89431\, United States
CATEGORIES:Biggest Little Area in the World Area
END:VEVENT
BEGIN:VEVENT
DTSTART;TZID=America/Los_Angeles:20300903T180000
DTEND;TZID=America/Los_Angeles:20300903T190000
DTSTAMP:20260420T191411
CREATED:20260115T131553Z
LAST-MODIFIED:20260115T131553Z
UID:10000938-1914688800-1914692400@sierrasagena.org
SUMMARY:BLAW Activities Meeting
DESCRIPTION:Meet the 1st Tuesday of every month at scf upstairs in room 204
URL:https://sierrasagena.org/event/blaw-activities-meeting/2030-09-03/
LOCATION:Sparks Christian Fellowship\, 510 Greenbrae Dr\, Sparks\, NV\, 89431\, United States
END:VEVENT
BEGIN:VEVENT
DTSTART;TZID=America/Los_Angeles:20301001T180000
DTEND;TZID=America/Los_Angeles:20301001T190000
DTSTAMP:20260420T191411
CREATED:20260115T131553Z
LAST-MODIFIED:20260115T131553Z
UID:10000939-1917108000-1917111600@sierrasagena.org
SUMMARY:BLAW Activities Meeting
DESCRIPTION:Meet the 1st Tuesday of every month at scf upstairs in room 204
URL:https://sierrasagena.org/event/blaw-activities-meeting/2030-10-01/
LOCATION:Sparks Christian Fellowship\, 510 Greenbrae Dr\, Sparks\, NV\, 89431\, United States
END:VEVENT
BEGIN:VEVENT
DTSTART;TZID=America/Los_Angeles:20301105T180000
DTEND;TZID=America/Los_Angeles:20301105T190000
DTSTAMP:20260420T191411
CREATED:20260115T131553Z
LAST-MODIFIED:20260115T131553Z
UID:10000940-1920132000-1920135600@sierrasagena.org
SUMMARY:BLAW Activities Meeting
DESCRIPTION:Meet the 1st Tuesday of every month at scf upstairs in room 204
URL:https://sierrasagena.org/event/blaw-activities-meeting/2030-11-05/
LOCATION:Sparks Christian Fellowship\, 510 Greenbrae Dr\, Sparks\, NV\, 89431\, United States
END:VEVENT
BEGIN:VEVENT
DTSTART;TZID=America/Los_Angeles:20301203T180000
DTEND;TZID=America/Los_Angeles:20301203T190000
DTSTAMP:20260420T191411
CREATED:20260115T131553Z
LAST-MODIFIED:20260115T131553Z
UID:10000941-1922551200-1922554800@sierrasagena.org
SUMMARY:BLAW Activities Meeting
DESCRIPTION:Meet the 1st Tuesday of every month at scf upstairs in room 204
URL:https://sierrasagena.org/event/blaw-activities-meeting/2030-12-03/
LOCATION:Sparks Christian Fellowship\, 510 Greenbrae Dr\, Sparks\, NV\, 89431\, United States
END:VEVENT
BEGIN:VEVENT
DTSTART;TZID=America/Los_Angeles:20310107T180000
DTEND;TZID=America/Los_Angeles:20310107T190000
DTSTAMP:20260420T191411
CREATED:20260115T131553Z
LAST-MODIFIED:20260115T131553Z
UID:10000942-1925575200-1925578800@sierrasagena.org
SUMMARY:BLAW Activities Meeting
DESCRIPTION:Meet the 1st Tuesday of every month at scf upstairs in room 204
URL:https://sierrasagena.org/event/blaw-activities-meeting/2031-01-07/
LOCATION:Sparks Christian Fellowship\, 510 Greenbrae Dr\, Sparks\, NV\, 89431\, United States
END:VEVENT
END:VCALENDAR